Workbook
Name ENTE_PUBLICO: '[1]Info General'!$C$6

Sheet Formato 1
A1: Formato 1 Estado de Situación Financiera Detallado - LDF
A2: INSTITUTO CULTURAL DE LEÓN
A3: Estado de Situación Financiera Detallado - LDF
A4: Al 31 de diciembre de 2025 y al 30 de septiembre de 2026
A5: (PESOS)
A6: Concepto | B6: 2026 | C6: 31 de diciembre de 2025 | D6: Concepto | E6: =B6 -> 2026 | F6: =C6 -> 31 de diciembre de 2025
A7: ACTIVO | D7: PASIVO
A8: Activo Circulante | D8: Pasivo Circulante
A9: a. Efectivo y Equivalentes (a=a1+a2+a3+a4+a5+a6+a7) | B9: =SUM(B10:B16) -> 34674788 | C9: =SUM(C10:C16) -> 17817660 | D9: a. Cuentas por Pagar a Corto Plazo (a=a1+a2+a3+a4+a5+a6+a7+a8+a9) | E9: =SUM(E10:E18) -> 4941759.9 | F9: =SUM(F10:F18) -> 4319491.5
A10: a1) Efectivo | B10: 47500 | C10: 47500 | D10: a1) Servicios Personales por Pagar a Corto Plazo | E10: 7465.02 | F10: 605539.25
A11: a2) Bancos/Tesorería | B11: 34627288 | C11: 17770160 | D11: a2) Proveedores por Pagar a Corto Plazo | E11: 3148901.5 | F11: 453968.15
A12: a3) Bancos/Dependencias y Otros | B12: 0 | C12: 0 | D12: a3) Contratistas por Obras Públicas por Pagar a Corto Plazo | E12: 0 | F12: 0
A13: a4) Inversiones Temporales (Hasta 3 meses) | B13: 0 | C13: 0 | D13: a4) Participaciones y Aportaciones por Pagar a Corto Plazo | E13: 0 | F13: 0
A14: a5) Fondos con Afectación Específica | B14: 0 | C14: 0 | D14: a5) Transferencias Otorgadas por Pagar a Corto Plazo | E14: 0 | F14: 0
A15: a6) Depósitos de Fondos de Terceros en Garantía y/o Administración | B15: 0 | C15: 0 | D15: a6) Intereses, Comisiones y Otros Gastos de la Deuda Pública por Pagar a Corto Plazo | E15: 0 | F15: 0
A16: a7) Otros Efectivos y Equivalentes | B16: 0 | C16: 0 | D16: a7) Retenciones y Contribuciones por Pagar a Corto Plazo | E16: 1259731.2 | F16: 2565981.6
A17: b. Derechos a Recibir Efectivo o Equivalentes (b=b1+b2+b3+b4+b5+b6+b7) | B17: =SUM(B18:B24) -> 9447532.5 | C17: =SUM(C18:C24) -> 2236691.2 | D17: a8) Devoluciones de la Ley de Ingresos por Pagar a Corto Plazo | E17: 0 | F17: 0
A18: b1) Inversiones Financieras de Corto Plazo | B18: 0 | C18: 0 | D18: a9) Otras Cuentas por Pagar a Corto Plazo | E18: 525662.12 | F18: 694002.5
A19: b2) Cuentas por Cobrar a Corto Plazo | B19: 7342265.4 | C19: 146723.79 | D19: b. Documentos por Pagar a Corto Plazo (b=b1+b2+b3) | E19: =SUM(E20:E22) -> 0 | F19: =SUM(F20:F22) -> 0
A20: b3) Deudores Diversos por Cobrar a Corto Plazo | B20: 691998.71 | C20: 676699.01 | D20: b1) Documentos Comerciales por Pagar a Corto Plazo | E20: 0 | F20: 0
A21: b4) Ingresos por Recuperar a Corto Plazo | B21: 1413268.4 | C21: 1413268.4 | D21: b2) Documentos con Contratistas por Obras Públicas por Pagar a Corto Plazo | E21: 0 | F21: 0
A22: b5) Deudores por Anticipos de la Tesorería a Corto Plazo | B22: 0 | C22: 0 | D22: b3) Otros Documentos por Pagar a Corto Plazo | E22: 0 | F22: 0
A23: b6) Préstamos Otorgados a Corto Plazo | B23: 0 | C23: 0 | D23: c. Porción a Corto Plazo de la Deuda Pública a Largo Plazo (c=c1+c2) | E23: =E24+E25 -> 0 | F23: =F24+F25 -> 0
A24: b7) Otros Derechos a Recibir Efectivo o Equivalentes a Corto Plazo | B24: 0 | C24: 0 | D24: c1) Porción a Corto Plazo de la Deuda Pública | E24: 0 | F24: 0
A25: c. Derechos a Recibir Bienes o Servicios (c=c1+c2+c3+c4+c5) | B25: =SUM(B26:B30) -> 806663.33 | C25: =SUM(C26:C30) -> 560925.07 | D25: c2) Porción a Corto Plazo de Arrendamiento Financiero | E25: 0 | F25: 0
A26: c1) Anticipo a Proveedores por Adquisición de Bienes y Prestación de Servicios a Corto Plazo | B26: 806663.33 | C26: 560925.07 | D26: d. Títulos y Valores a Corto Plazo | E26: 0 | F26: 0
A27: c2) Anticipo a Proveedores por Adquisición de Bienes Inmuebles y Muebles a Corto Plazo | B27: 0 | C27: 0 | D27: e. Pasivos Diferidos a Corto Plazo (e=e1+e2+e3) | E27: =SUM(E28:E30) -> 0 | F27: =SUM(F28:F30) -> 0
A28: c3) Anticipo a Proveedores por Adquisición de Bienes Intangibles a Corto Plazo | B28: 0 | C28: 0 | D28: e1) Ingresos Cobrados por Adelantado a Corto Plazo | E28: 0 | F28: 0
A29: c4) Anticipo a Contratistas por Obras Públicas a Corto Plazo | B29: 0 | C29: 0 | D29: e2) Intereses Cobrados por Adelantado a Corto Plazo | E29: 0 | F29: 0
A30: c5) Otros Derechos a Recibir Bienes o Servicios a Corto Plazo | B30: 0 | C30: 0 | D30: e3) Otros Pasivos Diferidos a Corto Plazo | E30: 0 | F30: 0
A31: d. Inventarios (d=d1+d2+d3+d4+d5) | B31: =SUM(B32:B36) -> 0 | C31: =SUM(C32:C36) -> 0 | D31: f. Fondos y Bienes de Terceros en Garantía y/o Administración a Corto Plazo (f=f1+f2+f3+f4+f5+f6) | E31: =SUM(E32:E37) -> 0 | F31: =SUM(F32:F37) -> 0
A32: d1) Inventario de Mercancías para Venta | B32: 0 | C32: 0 | D32: f1) Fondos en Garantía a Corto Plazo | E32: 0 | F32: 0
A33: d2) Inventario de Mercancías Terminadas | B33: 0 | C33: 0 | D33: f2) Fondos en Administración a Corto Plazo | E33: 0 | F33: 0
A34: d3) Inventario de Mercancías en Proceso de Elaboración | B34: 0 | C34: 0 | D34: f3) Fondos Contingentes a Corto Plazo | E34: 0 | F34: 0
A35: d4) Inventario de Materias Primas, Materiales y Suministros para Producción | B35: 0 | C35: 0 | D35: f4) Fondos de Fideicomisos, Mandatos y Contratos Análogos a Corto Plazo | E35: 0 | F35: 0
A36: d5) Bienes en Tránsito | B36: 0 | C36: 0 | D36: f5) Otros Fondos de Terceros en Garantía y/o Administración a Corto Plazo | E36: 0 | F36: 0
A37: e. Almacenes | B37: 0 | C37: 0 | D37: f6) Valores y Bienes en Garantía a Corto Plazo | E37: 0 | F37: 0
A38: f. Estimación por Pérdida o Deterioro de Activos Circulantes (f=f1+f2) | B38: =SUM(B39:B40) -> 0 | C38: =SUM(C39:C40) -> 0 | D38: g. Provisiones a Corto Plazo (g=g1+g2+g3) | E38: =SUM(E39:E41) -> 0 | F38: =SUM(F39:F41) -> 0
A39: f1) Estimaciones para Cuentas Incobrables por Derechos a Recibir Efectivo o Equivalentes | B39: 0 | C39: 0 | D39: g1) Provisión para Demandas y Juicios a Corto Plazo | E39: 0 | F39: 0
A40: f2) Estimación por Deterioro de Inventarios | B40: 0 | C40: 0 | D40: g2) Provisión para Contingencias a Corto Plazo | E40: 0 | F40: 0
...

Sheet Formato 2
A1: Formato 2 Informe Analítico de la Deuda Pública y Otros Pasivos - LDF
A2: ='Formato 1'!A2 -> INSTITUTO CULTURAL DE LEÓN
A3: Informe Analítico de la Deuda Pública y Otros Pasivos - LDF
A4: Del 1 de enero al 30 de septiembre de 2026
A5: (PESOS)
A6: Denominación de la Deuda Pública y Otros Pasivos | B6: ='Formato 1'!C6 -> 31 de diciembre de 2025 | C6: Disposiciones del Periodo | D6: Amortizaciones del Periodo | E6: Revaluaciones, Reclasificaciones y Otros Ajustes | F6: Saldo Final del Periodo | G6: Pago de Intereses del Periodo | H6: Pago de Comisiones y demás costos asociados durante el Periodo
A8: 1. Deuda Pública (1=A+B) | B8: 0 | C8: 0 | D8: 0 | E8: 0 | F8: 0 | G8: 0 | H8: 0
A9: A. Corto Plazo (A=a1+a2+a3) | B9: 0 | C9: 0 | D9: 0 | E9: 0 | F9: 0 | G9: 0 | H9: 0
A10: a1) Instituciones de Crédito | B10: 0 | C10: 0 | D10: 0 | E10: 0 | F10: 0 | G10: 0 | H10: 0
A11: a2) Títulos y Valores | B11: 0 | C11: 0 | D11: 0 | E11: 0 | F11: 0 | G11: 0 | H11: 0
A12: a3) Arrendamientos Financieros | B12: 0 | C12: 0 | D12: 0 | E12: 0 | F12: 0 | G12: 0 | H12: 0
A13: B. Largo Plazo (B=b1+b2+b3) | B13: 0 | C13: 0 | D13: 0 | E13: 0 | F13: 0 | G13: 0 | H13: 0
A14: b1) Instituciones de Crédito | B14: 0 | C14: 0 | D14: 0 | E14: 0 | F14: 0 | G14: 0 | H14: 0
A15: b2) Títulos y Valores | B15: 0 | C15: 0 | D15: 0 | E15: 0 | F15: 0 | G15: 0 | H15: 0
A16: b3) Arrendamientos Financieros | B16: 0 | C16: 0 | D16: 0 | E16: 0 | F16: 0 | G16: 0 | H16: 0
A18: 2. Otros Pasivos | B18: 7347258.8 | F18: 7603807.4
A20: 3. Total de la Deuda Pública y Otros Pasivos (3=1+2) | B20: =B8+B18 -> 7347258.8 | C20: 0 | D20: 0 | E20: 0 | F20: =F8+F18 -> 7603807.4 | G20: 0 | H20: 0
A22: 4. Deuda Contingente 1 (Informativo) | B22: 0 | C22: 0 | D22: 0 | E22: 0 | F22: 0 | G22: 0 | H22: 0
A23: A. Deuda Contingente 1 | B23: 0 | C23: 0 | D23: 0 | E23: 0 | F23: 0 | G23: 0 | H23: 0
A24: B. Deuda Contingente 2 | B24: 0 | C24: 0 | D24: 0 | E24: 0 | F24: 0 | G24: 0 | H24: 0
A25: C. Deuda Contingente XX | B25: 0 | C25: 0 | D25: 0 | E25: 0 | F25: 0 | G25: 0 | H25: 0
A27: 5. Valor de Instrumentos Bono Cupón Cero 2 (Informativo) | B27: 0 | C27: 0 | D27: 0 | E27: 0 | F27: 0 | G27: 0 | H27: 0
A28: A. Instrumento Bono Cupón Cero 1 | B28: 0 | C28: 0 | D28: 0 | E28: 0 | F28: 0 | G28: 0 | H28: 0
A29: B. Instrumento Bono Cupón Cero 2 | B29: 0 | C29: 0 | D29: 0 | E29: 0 | F29: 0 | G29: 0 | H29: 0
A30: C. Instrumento Bono Cupón Cero XX | B30: 0 | C30: 0 | D30: 0 | E30: 0 | F30: 0 | G30: 0 | H30: 0
A31: *
A33: 1 Se refiere a cualquier Financiamiento sin fuente o garantía de pago definida, que sea asumida de manera solidaria o subsidiaria por las Entidades Federativas con sus Municipios, organismos descentralizados y empresas de participación estatal mayoritaria y fideicomisos, locales o municipales, y por los Municipios con sus respectivos organismos descentralizados y empresas de participación municipal mayoritaria. 2 Se refiere al valor del Bono Cupón Cero que respalda el pago de los créditos asociados al mismo (Activo).
A39: Obligaciones a Corto Plazo (k) | B39: Monto Contratado (l) | C39: Plazo Pactado (m) | D39: Tasa de Interés (n) | E39: Comisiones y Costos Relacionados (o) | F39: Tasa Efectiva (p)
A41: 6. Obligaciones a Corto Plazo (Informativo) | B41: =SUM(B42:B44) -> 0 | C41: =SUM(C42:C44) -> 0 | D41: =SUM(D42:D44) -> 0 | E41: =SUM(E42:E44) -> 0 | F41: =SUM(F42:F44) -> 0
A42: A. Crédito 1 | B42: 0 | C42: 0 | D42: 0 | E42: 0 | F42: 0
A43: B. Crédito 2 | B43: 0 | C43: 0 | D43: 0 | E43: 0 | F43: 0
A44: C. Crédito XX | B44: 0 | C44: 0 | D44: 0 | E44: 0 | F44: 0
A45: *

Sheet Formato 3
A1: Formato 3 Informe Analítico de Obligaciones Diferentes de Financiamientos - LDF
A2: ='Formato 1'!A2 -> INSTITUTO CULTURAL DE LEÓN
A3: Informe Analítico de Obligaciones Diferentes de Financiamientos – LDF
A4: ='Formato 2'!A4 -> Del 1 de enero al 30 de septiembre de 2026
A5: (PESOS)
A6: Denominación de las Obligaciones Diferentes de Financiamiento | B6: Fecha del Contrato | C6: Fecha de inicio de operación del proyecto | D6: Fecha de vencimiento | E6: Monto de la inversión pactado | F6: Plazo pactado | G6: Monto promedio mensual del pago de la contraprestación | H6: Monto promedio mensual del pago de la contraprestación correspondiente al pago de inversión | I6: Monto pagado de la inversión al XX de XXXX de 20XN_x000D_ | J6: Monto pagado de la inversión actualizado al XX de XXXX de 20XN | K6: Saldo pendiente por pagar de la inversión al XX de XXXX de 20XN
A8: A. Asociaciones Público Privadas (APP’s) (A=a+b+c+d) | E8: 0 | G8: 0 | H8: 0 | I8: 0 | J8: 0 | K8: 0
A9: a) APP 1 | E9: 0 | G9: 0 | H9: 0 | I9: 0 | J9: 0 | K9: 0
A10: b) APP 2 | E10: 0 | G10: 0 | H10: 0 | I10: 0 | J10: 0 | K10: 0
A11: c) APP 3 | E11: 0 | G11: 0 | H11: 0 | I11: 0 | J11: 0 | K11: 0
A12: d) APP XX | E12: 0 | G12: 0 | H12: 0 | I12: 0 | J12: 0 | K12: 0
A13: *
A14: B. Otros Instrumentos (B=a+b+c+d) | E14: 0 | G14: 0 | H14: 0 | I14: 0 | J14: 0 | K14: 0
A15: a) Otro Instrumento 1 | E15: 0 | G15: 0 | H15: 0 | I15: 0 | J15: 0 | K15: 0
A16: b) Otro Instrumento 2 | E16: 0 | G16: 0 | H16: 0 | I16: 0 | J16: 0 | K16: 0
A17: c) Otro Instrumento 3 | E17: 0 | G17: 0 | H17: 0 | I17: 0 | J17: 0 | K17: 0
A18: d) Otro Instrumento XX | E18: 0 | G18: 0 | H18: 0 | I18: 0 | J18: 0 | K18: 0
A19: *
A20: C. Total de Obligaciones Diferentes de Financiamiento (C=A+B) | E20: 0 | G20: 0 | H20: 0 | I20: 0 | J20: 0 | K20: 0

Sheet Formato 4
A1: Formato 4 Balance Presupuestario - LDF
A2: ='Formato 1'!A2 -> INSTITUTO CULTURAL DE LEÓN
A3: Balance Presupuestario - LDF
A4: ='Formato 3'!A4 -> Del 1 de enero al 30 de septiembre de 2026
A5: (PESOS)
A7: Concepto | B7: Estimado/ Aprobado | C7: Devengado | D7: Recaudado/ Pagado
A8: A. Ingresos Totales (A = A1+A2+A3) | B8: =SUM(B9:B11) -> 100677572 | C8: =SUM(C9:C11) -> 1.0900564e+08 | D8: =SUM(D9:D11) -> 1.0173836e+08
A9: A1. Ingresos de Libre Disposición | B9: 100677572 | C9: 1.0900564e+08 | D9: 1.0173836e+08
A10: A2. Transferencias Federales Etiquetadas | B10: 0 | C10: 0 | D10: 0
A11: A3. Financiamiento Neto | B11: 0 | C11: 0 | D11: 0
A13: B. Egresos Presupuestarios1 (B = B1+B2) | B13: =+B14+B15 -> 100677572 | C13: =+C14+C15 -> 84459384 | D13: =+D14+D15 -> 81656656
A14: B1. Gasto No Etiquetado (sin incluir Amortización de la Deuda Pública) | B14: 100677572 | C14: 84459384 | D14: 81656656
A15: B2. Gasto Etiquetado (sin incluir Amortización de la Deuda Pública) | B15: 0 | C15: 0 | D15: 0
A17: C. Remanentes del Ejercicio Anterior ( C = C1 + C2 ) | B17: 0 | C17: =+C18+C19 -> 6910297 | D17: =+D18+D19 -> 6910297
A18: C1. Remanentes de Ingresos de Libre Disposición aplicados en el periodo | B18: 0 | C18: 6910297 | D18: 6910297
A19: C2. Remanentes de Transferencias Federales Etiquetadas aplicados en el periodo | B19: 0 | C19: 0 | D19: 0
A21: I. Balance Presupuestario (I = A – B + C) | B21: =B8-B13+B17 -> 0 | C21: =C8-C13+C17 -> 31456554 | D21: =D8-D13+D17 -> 26992004
A23: II. Balance Presupuestario sin Financiamiento Neto (II = I - A3) | B23: =B21-B11 -> 0 | C23: =C21-C11 -> 31456554 | D23: =D21-D11 -> 26992004
A25: III. Balance Presupuestario sin Financiamiento Neto y sin Remanentes del Ejercicio Anterior (III= II - C) | B25: =B23-B17 -> 0 | C25: =C23-C17 -> 24546257 | D25: =D23-D17 -> 20081707
A28: Concepto | B28: Aprobado | C28: Devengado | D28: Pagado
A29: E. Intereses, Comisiones y Gastos de la Deuda (E = E1+E2) | B29: =B30+B31 -> 0 | C29: =C30+C31 -> 0 | D29: =D30+D31 -> 0
A30: E1. Intereses, Comisiones y Gastos de la Deuda con Gasto No Etiquetado | B30: 0 | C30: 0 | D30: 0
A31: E2. Intereses, Comisiones y Gastos de la Deuda con Gasto Etiquetado | B31: 0 | C31: 0 | D31: 0
A33: IV. Balance Primario (IV = III + E) | B33: =+B25-B29 -> 0 | C33: =+C25-C29 -> 24546257 | D33: =+D25-D29 -> 20081707
A36: Concepto | B36: Estimado/ Aprobado | C36: Devengado | D36: Recaudado/ Pagado
A37: F. Financiamiento (F = F1 + F2) | B37: =B38+B39 -> 0 | C37: =C38+C39 -> 0 | D37: =D38+D39 -> 0
A38: F1. Financiamiento con Fuente de Pago de Ingresos de Libre Disposición | B38: 0 | C38: 0 | D38: 0
A39: F2. Financiamiento con Fuente de Pago de Transferencias Federales Etiquetadas | B39: 0 | C39: 0 | D39: 0
A40: G. Amortización de la Deuda (G = G1 + G2) | B40: =B41+B42 -> 0 | C40: =C41+C42 -> 0 | D40: =D41+D42 -> 0
A41: G1. Amortización de la Deuda Pública con Gasto No Etiquetado | B41: 0 | C41: 0 | D41: 0
A42: G2. Amortización de la Deuda Pública con Gasto Etiquetado | B42: 0 | C42: 0 | D42: 0
A44: A3. Financiamiento Neto (A3 = F – G ) | B44: =B37-B40 -> 0 | C44: =C37-C40 -> 0 | D44: =D37-D40 -> 0
A47: Concepto | B47: Estimado/ Aprobado | C47: Devengado | D47: Recaudado/ Pagado
A48: A1. Ingresos de Libre Disposición | B48: =B9 -> 100677572 | C48: =C9 -> 1.0900564e+08 | D48: =D9 -> 1.0173836e+08
A49: A3.1 Financiamiento Neto con Fuente de Pago de Ingresos de Libre Disposición (A3.1 = F1 – G1) | B49: =B50-B51 -> 0 | C49: =C50-C51 -> 0 | D49: =D50-D51 -> 0
A50: F1. Financiamiento con Fuente de Pago de Ingresos de Libre Disposición | B50: 0 | C50: 0 | D50: 0
A51: G1. Amortización de la Deuda Pública con Gasto No Etiquetado | B51: 0 | C51: 0 | D51: 0
A53: B1. Gasto No Etiquetado (sin incluir Amortización de la Deuda Pública) | B53: =B14 -> 100677572 | C53: =C14 -> 84459384 | D53: =D14 -> 81656656
A55: C1. Remanentes de Ingresos de Libre Disposición aplicados en el periodo | B55: 0 | C55: =C18 -> 6910297 | D55: =D18 -> 6910297
A57: V. Balance Presupuestario de Recursos Disponibles (V = A1 + A3.1 – B 1 + C1) | B57: =B48+B49-B53+B55 -> 0 | C57: =C48+C49-C53+C55 -> 31456554 | D57: =D48+D49-D53+D55 -> 26992004
...

Sheet Formato 5
A1: Formato 5 Estado Analítico de Ingresos Detallado - LDF
A2: ='Formato 1'!A2 -> INSTITUTO CULTURAL DE LEÓN
A3: Estado Analítico de Ingresos Detallado - LDF
A4: ='Formato 3'!A4 -> Del 1 de enero al 30 de septiembre de 2026
A5: (PESOS)
A6: Concepto | B6: Ingreso | G6: Diferencia
B7: Estimado | C7: Ampliaciones/ (Reducciones) | D7: Modificado | E7: Devengado | F7: Recaudado
A8: Ingresos de Libre Disposición
A9: A. Impuestos | B9: 0 | C9: 0 | D9: 0 | E9: 0 | F9: 0 | G9: 0
A10: B. Cuotas y Aportaciones de Seguridad Social | B10: 0 | C10: 0 | D10: 0 | E10: 0 | F10: 0 | G10: 0
A11: C. Contribuciones de Mejoras | B11: 0 | C11: 0 | D11: 0 | E11: 0 | F11: 0 | G11: 0
A12: D. Derechos | B12: 0 | C12: 0 | D12: 0 | E12: 0 | F12: 0 | G12: 0
A13: E. Productos | B13: 0 | C13: 0 | D13: 0 | E13: 0 | F13: 0 | G13: 0
A14: F. Aprovechamientos | B14: 0 | C14: 0 | D14: 0 | E14: 0 | F14: 0 | G14: 0
A15: G. Ingresos por Venta de Bienes y Prestación de Servicios | B15: 11069392 | C15: 1503642 | D15: 12573034 | E15: 13097472 | F15: 12994659 | G15: 1925266.7
A16: H. Participaciones (H=h1+h2+h3+h4+h5+h6+h7+h8+h9+h10+h11) | B16: 0 | C16: 0 | D16: 0 | E16: 0 | F16: 0 | G16: 0
A17: h1) Fondo General de Participaciones | B17: 0 | C17: 0 | D17: 0 | E17: 0 | F17: 0 | G17: 0
A18: h2) Fondo de Fomento Municipal | B18: 0 | C18: 0 | D18: 0 | E18: 0 | F18: 0 | G18: 0
A19: h3) Fondo de Fiscalización y Recaudación | B19: 0 | C19: 0 | D19: 0 | E19: 0 | F19: 0 | G19: 0
A20: h4) Fondo de Compensación | B20: 0 | C20: 0 | D20: 0 | E20: 0 | F20: 0 | G20: 0
... A39: l2) Otros Ingresos de Libre Disposición | B39: 0 | C39: 0 | D39: 0 | E39: 0 | F39: 0 | G39: 0
A41: I. Total de Ingresos de Libre Disposición (I=A+B+C+D+E+F+G+H+I+J+K+L) | B41: =SUM(B9,B10,B11,B12,B13,B14,B15,B16,B28,B34,B35,B37) -> 100677572 | C41: =SUM(C9,C10,C11,C12,C13,C14,C15,C16,C28,C34,C35,C37) -> 22603819 | D41: =SUM(D9,D10,D11,D12,D13,D14,D15,D16,D28,D34,D35,D37) -> 123281391 | E41: =SUM(E9,E10,E11,E12,E13,E14,E15,E16,E28,E34,E35,E37) -> 1.0900564e+08 | F41: =SUM(F9,F10,F11,F12,F13,F14,F15,F16,F28,F34,F35,F37) -> 1.0173836e+08 | G41: =SUM(G9,G10,G11,G12,G13,G14,G15,G16,G28,G34,G35,G37) -> 1060790.2
A42: Ingresos Excedentes de Ingresos de Libre Disposición | G42: 0
A44: Transferencias Federales Etiquetadas
A45: A. Aportaciones (A=a1+a2+a3+a4+a5+a6+a7+a8) | B45: 0 | C45: 0 | D45: 0 | E45: 0 | F45: 0 | G45: 0
A46: a1) Fondo de Aportaciones para la Nómina Educativa y Gasto Operativo | B46: 0 | C46: 0 | D46: 0 | E46: 0 | F46: 0 | G46: 0
A47: a2) Fondo de Aportaciones para los Servicios de Salud | B47: 0 | C47: 0 | D47: 0 | E47: 0 | F47: 0 | G47: 0
A48: a3) Fondo de Aportaciones para la Infraestructura Social | B48: 0 | C48: 0 | D48: 0 | E48: 0 | F48: 0 | G48: 0
A49: a4) Fondo de Aportaciones para el Fortalecimiento de los Municipios y de las Demarcaciones Territoriales del Distrito Federal | B49: 0 | C49: 0 | D49: 0 | E49: 0 | F49: 0 | G49: 0
A50: a5) Fondo de Aportaciones Múltiples | B50: 0 | C50: 0 | D50: 0 | E50: 0 | F50: 0 | G50: 0
A51: a6) Fondo de Aportaciones para la Educación Tecnológica y de Adultos | B51: 0 | C51: 0 | D51: 0 | E51: 0 | F51: 0 | G51: 0
A52: a7) Fondo de Aportaciones para la Seguridad Pública de los Estados y del Distrito Federal | B52: 0 | C52: 0 | D52: 0 | E52: 0 | F52: 0 | G52: 0
A53: a8) Fondo de Aportaciones para el Fortalecimiento de las Entidades Federativas | B53: 0 | C53: 0 | D53: 0 | E53: 0 | F53: 0 | G53: 0
A54: B. Convenios (B=b1+b2+b3+b4) | B54: 0 | C54: 0 | D54: 0 | E54: 0 | F54: 0 | G54: 0
A55: b1) Convenios de Protección Social en Salud | B55: 0 | C55: 0 | D55: 0 | E55: 0 | F55: 0 | G55: 0
A56: b2) Convenios de Descentralización | B56: 0 | C56: 0 | D56: 0 | E56: 0 | F56: 0 | G56: 0
... A63: E. Otras Transferencias Federales Etiquetadas | B63: 0 | C63: 0 | D63: 0 | E63: 0 | F63: 0 | G63: 0
A65: II. Total de Transferencias Federales Etiquetadas (II = A + B + C + D + E) | B65: =B45+B54+B59+B62+B63 -> 0 | C65: =C45+C54+C59+C62+C63 -> 0 | D65: =D45+D54+D59+D62+D63 -> 0 | E65: =E45+E54+E59+E62+E63 -> 0 | F65: =F45+F54+F59+F62+F63 -> 0 | G65: =G45+G54+G59+G62+G63 -> 0
A67: III. Ingresos Derivados de Financiamientos (III = A) | B67: =+B68 -> 0 | C67: =+C68 -> 6910297 | D67: =+D68 -> 6910297 | E67: =+E68 -> 0 | F67: =+F68 -> 0 | G67: =+G68 -> 0
A68: A. Ingresos Derivados de Financiamientos | B68: 0 | C68: 6910297 | D68: 6910297 | E68: 0 | F68: 0 | G68: 0
...

Sheet Formato 6 a)
A1: Formato 6 a) Estado Analítico del Ejercicio del Presupuesto de Egresos Detallado - LDF (Clasificación por Objeto del Gasto)
A2: ='Formato 1'!A2 -> INSTITUTO CULTURAL DE LEÓN
A3: Estado Analítico del Ejercicio del Presupuesto de Egresos Detallado - LDF
A4: Clasificación por Objeto del Gasto (Capítulo y Concepto)
A5: ='Formato 3'!A4 -> Del 1 de enero al 30 de septiembre de 2026
A6: (PESOS)
A7: Concepto | B7: Egresos | G7: Subejercicio
B8: Aprobado | C8: Ampliaciones/ (Reducciones) | D8: Modificado | E8: Devengado | F8: Pagado
A9: I. Gasto No Etiquetado (I=A+B+C+D+E+F+G+H+I) | B9: =SUM(B10,B18,B28,B38,B48,B58,B62,B71,B75) -> 100677572 | C9: =SUM(C10,C18,C28,C38,C48,C58,C62,C71,C75) -> 29514116 | D9: =SUM(D10,D18,D28,D38,D48,D58,D62,D71,D75) -> 130191688 | E9: =SUM(E10,E18,E28,E38,E48,E58,E62,E71,E75) -> 84459384 | F9: =SUM(F10,F18,F28,F38,F48,F58,F62,F71,F75) -> 81656656 | G9: =SUM(G10,G18,G28,G38,G48,G58,G62,G71,G75) -> 45732304
A10: A. Servicios Personales (A=a1+a2+a3+a4+a5+a6+a7) | B10: =SUM(B11:B17) -> 70976732 | C10: =SUM(C11:C17) -> 0 | D10: =SUM(D11:D17) -> 70976732 | E10: =SUM(E11:E17) -> 46869110 | F10: =SUM(F11:F17) -> 46808311 | G10: =SUM(G11:G17) -> 24107622
A11: a1) Remuneraciones al Personal de Carácter Permanente | B11: 31876320 | C11: -651476.51 | D11: =+B11+C11 -> 31224843 | E11: 21722653 | F11: 21722653 | G11: =D11-E11 -> 9502190.9
A12: a2) Remuneraciones al Personal de Carácter Transitorio | B12: 9011602 | C12: -23143.67 | D12: =+B12+C12 -> 8988458.3 | E12: 6604351.4 | F12: 6543552 | G12: =D12-E12 -> 2384106.9
A13: a3) Remuneraciones Adicionales y Especiales | B13: 5952961 | C13: 78921.16 | D13: =+B13+C13 -> 6031882.2 | E13: 1042284.4 | F13: 1042284.4 | G13: =D13-E13 -> 4989597.8
A14: a4) Seguridad Social | B14: 10030139 | C14: 0 | D14: =+B14+C14 -> 10030139 | E14: 7451139.1 | F14: 7451139.1 | G14: =D14-E14 -> 2578999.9
A15: a5) Otras Prestaciones Sociales y Económicas | B15: 13689892 | C15: 595699.02 | D15: =+B15+C15 -> 14285591 | E15: 10048683 | F15: 10048683 | G15: =D15-E15 -> 4236908.4
A16: a6) Previsiones | B16: 0 | C16: 0 | D16: =+B16+C16 -> 0 | E16: 0 | F16: 0 | G16: =D16-E16 -> 0
A17: a7) Pago de Estímulos a Servidores Públicos | B17: 415818 | C17: 0 | D17: =+B17+C17 -> 415818 | E17: 0 | F17: 0 | G17: =D17-E17 -> 415818
A18: B. Materiales y Suministros (B=b1+b2+b3+b4+b5+b6+b7+b8+b9) | B18: =SUM(B19:B27) -> 2081879 | C18: =SUM(C19:C27) -> 449360 | D18: =SUM(D19:D27) -> 2531239 | E18: =SUM(E19:E27) -> 1305243 | F18: =SUM(F19:F27) -> 1213769.2 | G18: =SUM(G19:G27) -> 1225996
A19: b1) Materiales de Administración, Emisión de Documentos y Artículos Oficiales | B19: 938067 | C19: 0 | D19: =+B19+C19 -> 938067 | E19: 381579.21 | F19: 381579.21 | G19: =D19-E19 -> 556487.79
A20: b2) Alimentos y Utensilios | B20: 300000 | C20: 186380 | D20: =+B20+C20 -> 486380 | E20: 280030.4 | F20: 280030.4 | G20: =D20-E20 -> 206349.6
A21: b3) Materias Primas y Materiales de Producción y Comercialización | B21: 0 | C21: 0 | D21: =+B21+C21 -> 0 | E21: 0 | F21: 0 | G21: =D21-E21 -> 0
A22: b4) Materiales y Artículos de Construcción y de Reparación | B22: 323367 | C22: 0 | D22: =+B22+C22 -> 323367 | E22: 243040.15 | F22: 230335.09 | G22: =D22-E22 -> 80326.85
A23: b5) Productos Químicos, Farmacéuticos y de Laboratorio | B23: 0 | C23: 0 | D23: =+B23+C23 -> 0 | E23: 0 | F23: 0 | G23: =D23-E23 -> 0
A24: b6) Combustibles, Lubricantes y Aditivos | B24: 223662 | C24: 206280 | D24: =+B24+C24 -> 429942 | E24: 252418.25 | F24: 252418.25 | G24: =D24-E24 -> 177523.75
A25: b7) Vestuario, Blancos, Prendas de Protección y Artículos Deportivos | B25: 243796 | C25: -4406.85 | D25: =+B25+C25 -> 239389.15 | E25: 94085.37 | F25: 17984.62 | G25: =D25-E25 -> 145303.78
A26: b8) Materiales y Suministros Para Seguridad | B26: 0 | C26: 0 | D26: =+B26+C26 -> 0 | E26: 0 | F26: 0 | G26: =D26-E26 -> 0
A27: b9) Herramientas, Refacciones y Accesorios Menores | B27: 52987 | C27: 61106.85 | D27: =+B27+C27 -> 114093.85 | E27: 54089.61 | F27: 51421.61 | G27: =D27-E27 -> 60004.24
A28: C. Servicios Generales (C=c1+c2+c3+c4+c5+c6+c7+c8+c9) | B28: =SUM(B29:B37) -> 27618961 | C28: =SUM(C29:C37) -> 27296276 | D28: =SUM(D29:D37) -> 54915237 | E28: =SUM(E29:E37) -> 35209020 | F28: =SUM(F29:F37) -> 32616835 | G28: =SUM(G29:G37) -> 19706217
A29: c1) Servicios Básicos | B29: 2602132 | C29: -8809 | D29: =+B29+C29 -> 2593323 | E29: 1188363.4 | F29: 1012463.2 | G29: =D29-E29 -> 1404959.6
A30: c2) Servicios de Arrendamiento | B30: 66460 | C30: 11484 | D30: =+B30+C30 -> 77944 | E30: 48243.1 | F30: 48243.1 | G30: =D30-E30 -> 29700.9
A31: c3) Servicios Profesionales, Científicos, Técnicos y Otros Servicios | B31: 2682190 | C31: 5058318 | D31: =+B31+C31 -> 7740508 | E31: 3095610.7 | F31: 2038672.1 | G31: =D31-E31 -> 4644897.3
A32: c4) Servicios Financieros, Bancarios y Comerciales | B32: 347440 | C32: 27244.01 | D32: =+B32+C32 -> 374684.01 | E32: 210703.04 | F32: 200579.41 | G32: =D32-E32 -> 163980.97
A33: c5) Servicios de Instalación, Reparación, Mantenimiento y Conservación | B33: 1485095 | C33: 1183747.8 | D33: =+B33+C33 -> 2668842.8 | E33: 1159754.1 | F33: 1015578.5 | G33: =D33-E33 -> 1509088.7
A34: c6) Servicios de Comunicación Social y Publicidad | B34: 6074169 | C34: 916958.03 | D34: =+B34+C34 -> 6991127 | E34: 5820402.3 | F34: 5646100.9 | G34: =D34-E34 -> 1170724.7
A35: c7) Servicios de Traslado y Viáticos | B35: 297397 | C35: 95390.27 | D35: =+B35+C35 -> 392787.27 | E35: 166886.66 | F35: 139278.66 | G35: =D35-E35 -> 225900.61
A36: c8) Servicios Oficiales | B36: 11431264 | C36: 19516711 | D36: =+B36+C36 -> 30947975 | E36: 21416089 | F36: 20480810 | G36: =D36-E36 -> 9531886.6
A37: c9) Otros Servicios Generales | B37: 2632814 | C37: 495231.78 | D37: =+B37+C37 -> 3128045.8 | E37: 2102968.6 | F37: 2035108.6 | G37: =D37-E37 -> 1025077.1
A38: D. Transferencias, Asignaciones, Subsidios y Otras Ayudas (D=d1+d2+d3+d4+d5+d6+d7+d8+d9) | B38: =SUM(B39:B47) -> 0 | C38: =SUM(C39:C47) -> 1200000 | D38: =SUM(D39:D47) -> 1200000 | E38: =SUM(E39:E47) -> 774555.73 | F38: =SUM(F39:F47) -> 734555.73 | G38: =SUM(G39:G47) -> 425444.27
A39: d1) Transferencias Internas y Asignaciones al Sector Público | B39: 0 | C39: 0 | D39: =+B39+C39 -> 0 | E39: 0 | F39: 0 | G39: =D39-E39 -> 0
A40: d2) Transferencias al Resto del Sector Público | B40: 0 | C40: 0 | D40: =+B40+C40 -> 0 | E40: 0 | F40: 0 | G40: =D40-E40 -> 0
...

Sheet Formato 6 b)
A1: Formato 6 b) Estado Analítico del Ejercicio del Presupuesto de Egresos Detallado - LDF (Clasificación Administrativa)
A2: ='Formato 1'!A2 -> INSTITUTO CULTURAL DE LEÓN
A3: Estado Analítico del Ejercicio del Presupuesto de Egresos Detallado - LDF
A4: Clasificación Administrativa
A5: ='Formato 3'!A4 -> Del 1 de enero al 30 de septiembre de 2026
A6: (PESOS)
A7: Concepto | B7: Egresos | G7: Subejercicio
B8: Aprobado | C8: Ampliaciones/ (Reducciones) | D8: Modificado | E8: Devengado | F8: Pagado
A9: I. Gasto No Etiquetado (I=A+B+C+D+E+F+G+H) | B9: =SUM(B10:B17) -> 100677572 | C9: =SUM(C10:C17) -> 29514116 | D9: =SUM(D10:D17) -> 1.3019169e+08 | E9: =SUM(E10:E17) -> 84459384 | F9: =SUM(F10:F17) -> 81656656 | G9: =SUM(G10:G17) -> 45732304
A10: 100 DIRECCION GENERAL | B10: 4246123 | C10: -9817.13 | D10: =+B10+C10 -> 4236305.9 | E10: 2255082.3 | F10: 2231914.8 | G10: =+D10-E10 -> 1981223.6
A11: 200 DIRECCION DE ADMINISTRACION Y FINANZAS | B11: 9639546 | C11: 1008045.2 | D11: =+B11+C11 -> 10647591 | E11: 5117486.4 | F11: 5071760.1 | G11: =+D11-E11 -> 5530104.8
A12: 300 DIRECCIÓN DE COMUNICACIÓN Y RELACIONE | B12: 6713278 | C12: -39738.09 | D12: =+B12+C12 -> 6673539.9 | E12: 4239517 | F12: 4136156.7 | G12: =+D12-E12 -> 2434022.9
A13: 400 DIRECCION DE DESARROLLO ARTÍSTICO | B13: 21813455 | C13: 13059933 | D13: =+B13+C13 -> 34873388 | E13: 26480328 | F13: 26279992 | G13: =+D13-E13 -> 8393060.5
A14: 500 DIRECCION DESARROLLO ACADEMICO | B14: 12555181 | C14: 2358002.3 | D14: =+B14+C14 -> 14913183 | E14: 9203910 | F14: 8784305 | G14: =+D14-E14 -> 5709273.3
A15: 600 DIRECCION DE FOMENTO CULTURAL Y PATRIMON | B15: 7515059 | C15: 8209305.7 | D15: =+B15+C15 -> 15724365 | E15: 9046950.9 | F15: 8193360.8 | G15: =+D15-E15 -> 6677413.8
A16: 700 DIRECCION DE INFRASTRUCTURA Y SERVICIOS | B16: 16424445 | C16: 1721346.5 | D16: =+B16+C16 -> 18145791 | E16: 11988327 | F16: 11679498 | G16: =+D16-E16 -> 6157464.5
A17: 1000 DIRECCIÓN DE MÚSICA Y GRUPOS REPRESENTAT | B17: 21770485 | C17: 3207038.4 | D17: =+B17+C17 -> 24977523 | E17: 16127783 | F17: 15279668 | G17: =+D17-E17 -> 8849740.2
A18: *
A19: II. Gasto Etiquetado (II=A+B+C+D+E+F+G+H) | B19: =SUM(B20:B27) -> 0 | C19: =SUM(C20:C27) -> 0 | D19: =SUM(D20:D27) -> 0 | E19: =SUM(E20:E27) -> 0 | F19: =SUM(F20:F27) -> 0 | G19: =SUM(G20:G27) -> 0
A20: A. Dependencia o Unidad Administrativa 1 | B20: 0 | C20: 0 | D20: =+B20+C20 -> 0 | E20: 0 | F20: 0 | G20: =+D20-E20 -> 0
A21: B. Dependencia o Unidad Administrativa 2 | B21: 0 | C21: 0 | D21: =+B21+C21 -> 0 | E21: 0 | F21: 0 | G21: =+D21-E21 -> 0
A22: C. Dependencia o Unidad Administrativa 3 | B22: 0 | C22: 0 | D22: =+B22+C22 -> 0 | E22: 0 | F22: 0 | G22: =+D22-E22 -> 0
A23: D. Dependencia o Unidad Administrativa 4 | B23: 0 | C23: 0 | D23: =+B23+C23 -> 0 | E23: 0 | F23: 0 | G23: =+D23-E23 -> 0
A24: E. Dependencia o Unidad Administrativa 5 | B24: 0 | C24: 0 | D24: =+B24+C24 -> 0 | E24: 0 | F24: 0 | G24: =+D24-E24 -> 0
A25: F. Dependencia o Unidad Administrativa 6 | B25: 0 | C25: 0 | D25: =+B25+C25 -> 0 | E25: 0 | F25: 0 | G25: =+D25-E25 -> 0
A26: G. Dependencia o Unidad Administrativa 7 | B26: 0 | C26: 0 | D26: =+B26+C26 -> 0 | E26: 0 | F26: 0 | G26: =+D26-E26 -> 0
A27: H. Dependencia o Unidad Administrativa xx | B27: 0 | C27: 0 | D27: =+B27+C27 -> 0 | E27: 0 | F27: 0 | G27: =+D27-E27 -> 0
A28: *
A29: III. Total de Egresos (III = I + II) | B29: =+B9+B19 -> 100677572 | C29: =+C9+C19 -> 29514116 | D29: =+D9+D19 -> 1.3019169e+08 | E29: =+E9+E19 -> 84459384 | F29: =+F9+F19 -> 81656656 | G29: =+G9+G19 -> 45732304

Sheet Formato 6 c)
A1: Formato 6 c) Estado Analítico del Ejercicio del Presupuesto de Egresos Detallado -LDF (Clasificación Funcional)
A2: ='Formato 1'!A2 -> INSTITUTO CULTURAL DE LEÓN
A3: Estado Analítico del Ejercicio del Presupuesto de Egresos Detallado - LDF
A4: Clasificación Funcional (Finalidad y Función)
A5: ='Formato 3'!A4 -> Del 1 de enero al 30 de septiembre de 2026
A6: (PESOS)
A7: Concepto | B7: Egresos | G7: Subejercicio
B8: Aprobado | C8: Ampliaciones / (Reducciones) | D8: Modificado | E8: Devengado | F8: Pagado
A9: I. Gasto No Etiquetado (I=A+B+C+D) | B9: =SUM(B10,B19,B27,B37) -> 100677572 | C9: =SUM(C10,C19,C27,C37) -> 29514116 | D9: =SUM(D10,D19,D27,D37) -> 130191688 | E9: =SUM(E10,E19,E27,E37) -> 84459384 | F9: =SUM(F10,F19,F27,F37) -> 81656656 | G9: =SUM(G10,G19,G27,G37) -> 45732304
A10: A. Gobierno (A=a1+a2+a3+a4+a5+a6+a7+a8) | B10: =SUM(B11:B18) -> 0 | C10: =SUM(C11:C18) -> 0 | D10: =SUM(D11:D18) -> 0 | E10: =SUM(E11:E18) -> 0 | F10: =SUM(F11:F18) -> 0 | G10: =SUM(G11:G18) -> 0
A11: a1) Legislación | B11: 0 | C11: 0 | D11: 0 | E11: 0 | F11: 0 | G11: 0
A12: a2) Justicia | B12: 0 | C12: 0 | D12: 0 | E12: 0 | F12: 0 | G12: 0
A13: a3) Coordinación de la Política de Gobierno | B13: 0 | C13: 0 | D13: 0 | E13: 0 | F13: 0 | G13: 0
A14: a4) Relaciones Exteriores | B14: 0 | C14: 0 | D14: 0 | E14: 0 | F14: 0 | G14: 0
A15: a5) Asuntos Financieros y Hacendarios | B15: 0 | C15: 0 | D15: 0 | E15: 0 | F15: 0 | G15: 0
A16: a6) Seguridad Nacional | B16: 0 | C16: 0 | D16: 0 | E16: 0 | F16: 0 | G16: 0
A17: a7) Asuntos de Orden Público y de Seguridad Interior | B17: 0 | C17: 0 | D17: 0 | E17: 0 | F17: 0 | G17: 0
A18: a8) Otros Servicios Generales | B18: 0 | C18: 0 | D18: 0 | E18: 0 | F18: 0 | G18: 0
A19: B. Desarrollo Social (B=b1+b2+b3+b4+b5+b6+b7) | B19: =SUM(B20:B26) -> 100677572 | C19: =SUM(C20:C26) -> 29514116 | D19: =SUM(D20:D26) -> 130191688 | E19: =SUM(E20:E26) -> 84459384 | F19: =SUM(F20:F26) -> 81656656 | G19: =SUM(G20:G26) -> 45732304
A20: b1) Protección Ambiental | B20: 0 | C20: 0 | D20: 0 | E20: 0 | F20: 0 | G20: 0
A21: b2) Vivienda y Servicios a la Comunidad | B21: 0 | C21: 0 | D21: 0 | E21: 0 | F21: 0 | G21: 0
A22: b3) Salud | B22: 0 | C22: 0 | D22: 0 | E22: 0 | F22: 0 | G22: 0
A23: b4) Recreación, Cultura y Otras Manifestaciones Sociales | B23: 100677572 | C23: 29514116 | D23: =+B23+C23 -> 130191688 | E23: 84459384 | F23: 81656656 | G23: =+D23-E23 -> 45732304
A24: b5) Educación | B24: 0 | C24: 0 | D24: 0 | E24: 0 | F24: 0 | G24: 0
A25: b6) Protección Social | B25: 0 | C25: 0 | D25: 0 | E25: 0 | F25: 0 | G25: 0
A26: b7) Otros Asuntos Sociales | B26: 0 | C26: 0 | D26: 0 | E26: 0 | F26: 0 | G26: 0
A27: C. Desarrollo Económico (C=c1+c2+c3+c4+c5+c6+c7+c8+c9) | B27: =SUM(B28:B36) -> 0 | C27: =SUM(C28:C36) -> 0 | D27: =SUM(D28:D36) -> 0 | E27: =SUM(E28:E36) -> 0 | F27: =SUM(F28:F36) -> 0 | G27: =SUM(G28:G36) -> 0
A28: c1) Asuntos Económicos, Comerciales y Laborales en General | B28: 0 | C28: 0 | D28: 0 | E28: 0 | F28: 0 | G28: 0
A29: c2) Agropecuaria, Silvicultura, Pesca y Caza | B29: 0 | C29: 0 | D29: 0 | E29: 0 | F29: 0 | G29: 0
A30: c3) Combustibles y Energía | B30: 0 | C30: 0 | D30: 0 | E30: 0 | F30: 0 | G30: 0
A31: c4) Minería, Manufacturas y Construcción | B31: 0 | C31: 0 | D31: 0 | E31: 0 | F31: 0 | G31: 0
A32: c5) Transporte | B32: 0 | C32: 0 | D32: 0 | E32: 0 | F32: 0 | G32: 0
A33: c6) Comunicaciones | B33: 0 | C33: 0 | D33: 0 | E33: 0 | F33: 0 | G33: 0
A34: c7) Turismo | B34: 0 | C34: 0 | D34: 0 | E34: 0 | F34: 0 | G34: 0
A35: c8) Ciencia, Tecnología e Innovación | B35: 0 | C35: 0 | D35: 0 | E35: 0 | F35: 0 | G35: 0
A36: c9) Otras Industrias y Otros Asuntos Económicos | B36: 0 | C36: 0 | D36: 0 | E36: 0 | F36: 0 | G36: 0
A37: D. Otras No Clasificadas en Funciones Anteriores (D=d1+d2+d3+d4) | B37: =SUM(B38:B41) -> 0 | C37: =SUM(C38:C41) -> 0 | D37: =SUM(D38:D41) -> 0 | E37: =SUM(E38:E41) -> 0 | F37: =SUM(F38:F41) -> 0 | G37: =SUM(G38:G41) -> 0
A38: d1) Transacciones de la Deuda Pública / Costo Financiero de la Deuda | B38: 0 | C38: 0 | D38: 0 | E38: 0 | F38: 0 | G38: 0
A39: d2) Transferencias, Participaciones y Aportaciones Entre Diferentes Niveles y Órdenes de Gobierno | B39: 0 | C39: 0 | D39: 0 | E39: 0 | F39: 0 | G39: 0
A40: d3) Saneamiento del Sistema Financiero | B40: 0 | C40: 0 | D40: 0 | E40: 0 | F40: 0 | G40: 0
...

Sheet Formato 6 d)
A1: Formato 6 d) Estado Analítico del Ejercicio del Presupuesto de Egresos Detallado - LDF (Clasificación de Servicios Personales por Categoría)
A2: ='Formato 1'!A2 -> INSTITUTO CULTURAL DE LEÓN
A3: Estado Analítico del Ejercicio del Presupuesto de Egresos Detallado - LDF
A4: Clasificación de Servicios Personales por Categoría
A5: ='Formato 3'!A4 -> Del 1 de enero al 30 de septiembre de 2026
A6: (PESOS)
A7: Concepto | B7: Egresos | G7: Subejercicio
B8: Aprobado | C8: Ampliaciones / (Reducciones) | D8: Modificado | E8: Devengado | F8: Pagado
A9: I. Gasto No Etiquetado (I=A+B+C+D+E+F) | B9: =SUM(B10,B11,B12,B15,B16,B19) -> 70976732 | C9: =SUM(C10,C11,C12,C15,C16,C19) -> 0 | D9: =SUM(D10,D11,D12,D15,D16,D19) -> 70976732 | E9: =SUM(E10,E11,E12,E15,E16,E19) -> 46869110 | F9: =SUM(F10,F11,F12,F15,F16,F19) -> 46808311 | G9: =SUM(G10,G11,G12,G15,G16,G19) -> 24107622
A10: A. Personal Administrativo y de Servicio Público | B10: 70976732 | C10: 0 | D10: =+B10+C10 -> 70976732 | E10: 46869110 | F10: 46808311 | G10: =D10-E10 -> 24107622
A11: B. Magisterio | B11: 0 | C11: 0 | D11: 0 | E11: 0 | F11: 0 | G11: =D11-E11 -> 0
A12: C. Servicios de Salud (C=c1+c2) | B12: =B13+B14 -> 0 | C12: =C13+C14 -> 0 | D12: =D13+D14 -> 0 | E12: =E13+E14 -> 0 | F12: =F13+F14 -> 0 | G12: =G13+G14 -> 0
A13: c1) Personal Administrativo | B13: 0 | C13: 0 | D13: 0 | E13: 0 | F13: 0 | G13: =D13-E13 -> 0
A14: c2) Personal Médico, paramédico y afín | B14: 0 | C14: 0 | D14: 0 | E14: 0 | F14: 0 | G14: =D14-E14 -> 0
A15: D. Seguridad Pública | B15: 0 | C15: 0 | D15: 0 | E15: 0 | F15: 0 | G15: =D15-E15 -> 0
A16: E. Gastos asociados a la implementación de nuevas leyes federales o reformas a las mismas (E=e1+e2) | B16: =B17+B18 -> 0 | C16: =C17+C18 -> 0 | D16: =D17+D18 -> 0 | E16: =E17+E18 -> 0 | F16: =F17+F18 -> 0 | G16: =G17+G18 -> 0
A17: e1) Nombre del Programa o Ley 1 | B17: 0 | C17: 0 | D17: 0 | E17: 0 | F17: 0 | G17: =D17-E17 -> 0
A18: e2) Nombre del Programa o Ley 2 | B18: 0 | C18: 0 | D18: 0 | E18: 0 | F18: 0 | G18: =D18-E18 -> 0
A19: F. Sentencias laborales definitivas | B19: 0 | C19: 0 | D19: 0 | E19: 0 | F19: 0 | G19: =D19-E19 -> 0
A21: II. Gasto Etiquetado (II=A+B+C+D+E+F) | B21: =SUM(B22,B23,B24,B27,B28,B31) -> 0 | C21: =SUM(C22,C23,C24,C27,C28,C31) -> 0 | D21: =SUM(D22,D23,D24,D27,D28,D31) -> 0 | E21: =SUM(E22,E23,E24,E27,E28,E31) -> 0 | F21: =SUM(F22,F23,F24,F27,F28,F31) -> 0 | G21: =SUM(G22,G23,G24,G27,G28,G31) -> 0
A22: A. Personal Administrativo y de Servicio Público | B22: 0 | C22: 0 | D22: 0 | E22: 0 | F22: 0 | G22: =D22-E22 -> 0
A23: B. Magisterio | B23: 0 | C23: 0 | D23: 0 | E23: 0 | F23: 0 | G23: =D23-E23 -> 0
A24: C. Servicios de Salud (C=c1+c2) | B24: =B25+B26 -> 0 | C24: =C25+C26 -> 0 | D24: =D25+D26 -> 0 | E24: =E25+E26 -> 0 | F24: =F25+F26 -> 0 | G24: =G25+G26 -> 0
A25: c1) Personal Administrativo | B25: 0 | C25: 0 | D25: 0 | E25: 0 | F25: 0 | G25: =D25-E25 -> 0
A26: c2) Personal Médico, paramédico y afín | B26: 0 | C26: 0 | D26: 0 | E26: 0 | F26: 0 | G26: =D26-E26 -> 0
A27: D. Seguridad Pública | B27: 0 | C27: 0 | D27: 0 | E27: 0 | F27: 0 | G27: =D27-E27 -> 0
A28: E. Gastos asociados a la implementación de nuevas leyes federales o reformas a las mismas (E=e1+e2) | B28: =B29+B30 -> 0 | C28: =C29+C30 -> 0 | D28: =D29+D30 -> 0 | E28: =E29+E30 -> 0 | F28: =F29+F30 -> 0 | G28: =G29+G30 -> 0
A29: e1) Nombre del Programa o Ley 1 | B29: 0 | C29: 0 | D29: 0 | E29: 0 | F29: 0 | G29: =D29-E29 -> 0
A30: e2) Nombre del Programa o Ley 2 | B30: 0 | C30: 0 | D30: 0 | E30: 0 | F30: 0 | G30: =D30-E30 -> 0
A31: F. Sentencias laborales definitivas | B31: 0 | C31: 0 | D31: 0 | E31: 0 | F31: 0 | G31: =D31-E31 -> 0
A33: III. Total del Gasto en Servicios Personales (III = I + II) | B33: =B21+B9 -> 70976732 | C33: =C21+C9 -> 0 | D33: =D21+D9 -> 70976732 | E33: =E21+E9 -> 46869110 | F33: =F21+F9 -> 46808311 | G33: =G21+G9 -> 24107622

Sheet Formato 7 a)
A1: Formato 7 a) Proyecciones de Ingresos - LDF
A2: ='Formato 1'!A2 -> INSTITUTO CULTURAL DE LEÓN
A3: Proyecciones de Ingresos - LDF
A4: (PESOS)
A5: (CIFRAS NOMINALES)
A6: Concepto | B6: 2026 | C6: =B6+1 -> 2027 | D6: =C6+1 -> 2028 | E6: =D6+1 -> 2029 | F6: =E6+1 -> 2030 | G6: =F6+1 -> 2031
A7: 1. Ingresos de Libre Disposición (1=A+B+C+D+E+F+G+H+I+J+K+L) | B7: =SUM(B8:B19) -> 289896823 | C7: =SUM(C8:C19) -> 0 | D7: =SUM(D8:D19) -> 0 | E7: =SUM(E8:E19) -> 0 | F7: =SUM(F8:F19) -> 0 | G7: =SUM(G8:G19) -> 0
A8: A. Impuestos | B8: 0 | C8: 0 | D8: 0 | E8: 0 | F8: 0 | G8: 0
A9: B. Cuotas y Aportaciones de Seguridad Social | B9: 0 | C9: 0 | D9: 0 | E9: 0 | F9: 0 | G9: 0
A10: C. Contribuciones de Mejoras | B10: 0 | C10: 0 | D10: 0 | E10: 0 | F10: 0 | G10: 0
A11: D. Derechos | B11: 0 | C11: 0 | D11: 0 | E11: 0 | F11: 0 | G11: 0
A12: E. Productos | B12: 0 | C12: 0 | D12: 0 | E12: 0 | F12: 0 | G12: 0
A13: F. Aprovechamientos | B13: 0 | C13: 0 | D13: 0 | E13: 0 | F13: 0 | G13: 0
A14: G. Ingresos por Venta de Bienes y Prestación de Servicios | B14: 11069392 | C14: 0 | D14: 0 | E14: 0 | F14: 0 | G14: 0
A15: H. Participaciones | B15: 0 | C15: 0 | D15: 0 | E15: 0 | F15: 0 | G15: 0
A16: I. Incentivos Derivados de la Colaboración Fiscal | B16: 0 | C16: 0 | D16: 0 | E16: 0 | F16: 0 | G16: 0
A17: J. Transferencias y Asignaciones | B17: 278827431 | C17: 0 | D17: 0 | E17: 0 | F17: 0 | G17: 0
A18: K. Convenios | B18: 0 | C18: 0 | D18: 0 | E18: 0 | F18: 0 | G18: 0
A19: L. Otros Ingresos de Libre Disposición | B19: 0 | C19: 0 | D19: 0 | E19: 0 | F19: 0 | G19: 0
A21: 2. Transferencias Federales Etiquetadas (2=A+B+C+D+E) | B21: =SUM(B22:B26) -> 0 | C21: =SUM(C22:C26) -> 0 | D21: =SUM(D22:D26) -> 0 | E21: =SUM(E22:E26) -> 0 | F21: =SUM(F22:F26) -> 0 | G21: =SUM(G22:G26) -> 0
A22: A. Aportaciones | B22: 0 | C22: 0 | D22: 0 | E22: 0 | F22: 0 | G22: 0
A23: B. Convenios | B23: 0 | C23: 0 | D23: 0 | E23: 0 | F23: 0 | G23: 0
A24: C. Fondos Distintos de Aportaciones | B24: 0 | C24: 0 | D24: 0 | E24: 0 | F24: 0 | G24: 0
A25: D. Transferencias, Asignaciones, Subsidios y Subvenciones, y Pensiones y Jubilaciones | B25: 0 | C25: 0 | D25: 0 | E25: 0 | F25: 0 | G25: 0
A26: E. Otras Transferencias Federales Etiquetadas | B26: 0 | C26: 0 | D26: 0 | E26: 0 | F26: 0 | G26: 0
A28: 3. Ingresos Derivados de Financiamientos (3=A) | B28: =SUM(B29) -> 0 | C28: =SUM(C29) -> 0 | D28: =SUM(D29) -> 0 | E28: =SUM(E29) -> 0 | F28: =SUM(F29) -> 0 | G28: =SUM(G29) -> 0
A29: A. Ingresos Derivados de Financiamientos | B29: 0 | C29: 0 | D29: 0 | E29: 0 | F29: 0 | G29: 0
A31: 4. Total de Ingresos Proyectados (4=1+2+3) | B31: =B21+B7+B28 -> 289896823 | C31: =C21+C7+C28 -> 0 | D31: =D21+D7+D28 -> 0 | E31: =E21+E7+E28 -> 0 | F31: =F21+F7+F28 -> 0 | G31: =G21+G7+G28 -> 0
A33: Datos Informativos
A34: 1. Ingresos Derivados de Financiamientos con Fuente de Pago de Recursos de Libre Disposición | B34: 0 | C34: 0 | D34: 0 | E34: 0 | F34: 0 | G34: 0
A35: 2. Ingresos Derivados de Financiamientos con Fuente de Pago de Transferencias Federales Etiquetadas | B35: 0 | C35: 0 | D35: 0 | E35: 0 | F35: 0 | G35: 0
A36: 3. Ingresos Derivados de Financiamiento (3 = 1 + 2) | B36: 0 | C36: 0 | D36: 0 | E36: 0 | F36: 0 | G36: 0

Sheet Formato 7 b)
A1: Formato 7 b) Proyecciones de Egresos - LDF
A2: ='Formato 1'!A2 -> INSTITUTO CULTURAL DE LEÓN
A3: Proyecciones de Egresos - LDF
A4: (PESOS)
A5: (CIFRAS NOMINALES)
A6: Concepto | B6: 2026 | C6: =B6+1 -> 2027 | D6: =C6+1 -> 2028 | E6: =D6+1 -> 2029 | F6: =E6+1 -> 2030 | G6: =F6+1 -> 2031
A7: 1. Gasto No Etiquetado (1=A+B+C+D+E+F+G+H+I) | B7: =SUM(B8:B16) -> 289896824 | C7: =SUM(C8:C16) -> 0 | D7: =SUM(D8:D16) -> 0 | E7: =SUM(E8:E16) -> 0 | F7: =SUM(F8:F16) -> 0 | G7: =SUM(G8:G16) -> 0
A8: A. Servicios Personales | B8: 71115495 | C8: 0 | D8: 0 | E8: 0 | F8: 0 | G8: 0
A9: B. Materiales y Suministros | B9: 3665873 | C9: 0 | D9: 0 | E9: 0 | F9: 0 | G9: 0
A10: C. Servicios Generales | B10: 21017212 | C10: 0 | D10: 0 | E10: 0 | F10: 0 | G10: 0
A11: D. Transferencias, Asignaciones, Subsidios y Otras Ayudas | B11: 0 | C11: 0 | D11: 0 | E11: 0 | F11: 0 | G11: 0
A12: E. Bienes Muebles, Inmuebles e Intangibles | B12: 2355603 | C12: 0 | D12: 0 | E12: 0 | F12: 0 | G12: 0
A13: F. Inversión Pública | B13: 191742641 | C13: 0 | D13: 0 | E13: 0 | F13: 0 | G13: 0
A14: G. Inversiones Financieras y Otras Provisiones | B14: 0 | C14: 0 | D14: 0 | E14: 0 | F14: 0 | G14: 0
A15: H. Participaciones y Aportaciones | B15: 0 | C15: 0 | D15: 0 | E15: 0 | F15: 0 | G15: 0
A16: I. Deuda Pública | B16: 0 | C16: 0 | D16: 0 | E16: 0 | F16: 0 | G16: 0
A18: 2. Gasto Etiquetado (2=A+B+C+D+E+F+G+H+I) | B18: =SUM(B19:B27) -> 0 | C18: =SUM(C19:C27) -> 0 | D18: =SUM(D19:D27) -> 0 | E18: =SUM(E19:E27) -> 0 | F18: =SUM(F19:F27) -> 0 | G18: =SUM(G19:G27) -> 0
A19: A. Servicios Personales | B19: 0 | C19: 0 | D19: 0 | E19: 0 | F19: 0 | G19: 0
A20: B. Materiales y Suministros | B20: 0 | C20: 0 | D20: 0 | E20: 0 | F20: 0 | G20: 0
A21: C. Servicios Generales | B21: 0 | C21: 0 | D21: 0 | E21: 0 | F21: 0 | G21: 0
A22: D. Transferencias, Asignaciones, Subsidios y Otras Ayudas | B22: 0 | C22: 0 | D22: 0 | E22: 0 | F22: 0 | G22: 0
A23: E. Bienes Muebles, Inmuebles e Intangibles | B23: 0 | C23: 0 | D23: 0 | E23: 0 | F23: 0 | G23: 0
A24: F. Inversión Pública | B24: 0 | C24: 0 | D24: 0 | E24: 0 | F24: 0 | G24: 0
A25: G. Inversiones Financieras y Otras Provisiones | B25: 0 | C25: 0 | D25: 0 | E25: 0 | F25: 0 | G25: 0
A26: H. Participaciones y Aportaciones | B26: 0 | C26: 0 | D26: 0 | E26: 0 | F26: 0 | G26: 0
A27: I. Deuda Pública | B27: 0 | C27: 0 | D27: 0 | E27: 0 | F27: 0 | G27: 0
A29: 3. Total de Egresos Proyectados (3 = 1 + 2) | B29: =B18+B7 -> 289896824 | C29: =C18+C7 -> 0 | D29: =D18+D7 -> 0 | E29: =E18+E7 -> 0 | F29: =F18+F7 -> 0 | G29: =G18+G7 -> 0

Sheet Formato 7 c)
A1: Formato 7 c) Resultados de Ingresos - LDF
A2: ='Formato 1'!A2 -> INSTITUTO CULTURAL DE LEÓN
A3: Resultados de Ingresos - LDF
A4: (PESOS)
A5: Concepto | B5: 2020 1 | C5: 2021 1 | D5: 2022 1 | E5: 2023 1 | F5: 2024 1 | G5: 2025 2
A6: 1. Ingresos de Libre Disposición (1=A+B+C+D+E+F+G+H+I+J+K+L) | B6: =SUM(B7:B18) -> 78383507 | C6: =SUM(C7:C18) -> 78656820 | D6: =SUM(D7:D18) -> 87655188 | E6: =SUM(E7:E18) -> 95165842 | F6: =SUM(F7:F18) -> 1.05178e+08 | G6: =SUM(G7:G18) -> 1.0955229e+08
A7: A. Impuestos | B7: 0 | C7: 0 | D7: 0 | E7: 0 | F7: 0 | G7: 0
A8: B. Cuotas y Aportaciones de Seguridad Social | B8: 0 | C8: 0 | D8: 0 | E8: 0 | F8: 0 | G8: 0
A9: C. Contribuciones de Mejoras | B9: 0 | C9: 0 | D9: 0 | E9: 0 | F9: 0 | G9: 0
A10: D. Derechos | B10: 0 | C10: 0 | D10: 0 | E10: 0 | F10: 0 | G10: 0
A11: E. Productos | B11: 0 | C11: 0 | D11: 0 | E11: 0 | F11: 0 | G11: 0
A12: F. Aprovechamientos | B12: 0 | C12: 0 | D12: 0 | E12: 0 | F12: 0 | G12: 0
A13: G. Ingresos por Venta de Bienes y Prestación de Servicios | B13: 5643412.5 | C13: 4321179.5 | D13: 11147264 | E13: 14325667 | F13: 16262424 | G13: 16818240
A14: H. Participaciones | B14: 0 | C14: 0 | D14: 0 | E14: 0 | F14: 0 | G14: 0
A15: I. Incentivos Derivados de la Colaboración Fiscal | B15: 0 | C15: 0 | D15: 0 | E15: 0 | F15: 0 | G15: 0
A16: J. Transferencias y Asignaciones | B16: 72740094 | C16: 74335640 | D16: 76507925 | E16: 80840176 | F16: 88915581 | G16: 92734045
A17: K. Convenios | B17: 0 | C17: 0 | D17: 0 | E17: 0 | F17: 0 | G17: 0
A18: L. Otros Ingresos de Libre Disposición | B18: 0 | C18: 0 | D18: 0 | E18: 0 | F18: 0 | G18: 0
A20: 2. Transferencias Federales Etiquetadas (2=A+B+C+D+E) | B20: =SUM(B21:B25) -> 378937.85 | C20: =SUM(C21:C25) -> 711000 | D20: =SUM(D21:D25) -> 1162344.4 | E20: =SUM(E21:E25) -> 537465.55 | F20: =SUM(F21:F25) -> 0 | G20: =SUM(G21:G25) -> 420987.13
A21: A. Aportaciones | B21: 0 | C21: 0 | D21: 0 | E21: 0 | F21: 0 | G21: 0
A22: B. Convenios | B22: 0 | C22: 0 | D22: 0 | E22: 0 | F22: 0 | G22: 0
A23: C. Fondos Distintos de Aportaciones | B23: 0 | C23: 0 | D23: 0 | E23: 0 | F23: 0 | G23: 0
A24: D. Transferencias, Asignaciones, Subsidios y Subvenciones, y Pensiones y Jubilaciones | B24: 378937.85 | C24: 711000 | D24: 1162344.4 | E24: 0 | F24: 0 | G24: 420987.13
A25: E. Otras Transferencias Federales Etiquetadas | B25: 0 | C25: 0 | D25: 0 | E25: 537465.55 | F25: 0 | G25: 0
A27: 3. Ingresos Derivados de Financiamientos (3=A) | B27: =SUM(B28) -> 809269.83 | C27: =SUM(C28) -> 1561612.6 | D27: =SUM(D28) -> 605812.45 | E27: =SUM(E28) -> 4921230 | F27: =SUM(F28) -> 5334336 | G27: =SUM(G28) -> 7202580.9
A28: A. Ingresos Derivados de Financiamientos | B28: 809269.83 | C28: 1561612.6 | D28: 605812.45 | E28: 4921230 | F28: 5334336 | G28: 7202580.9
A30: 4. Total de Resultados de Ingresos (4=1+2+3) | B30: =B20+B6+B27 -> 79571715 | C30: =C20+C6+C27 -> 80929433 | D30: =D20+D6+D27 -> 89423345 | E30: =E20+E6+E27 -> 1.0062454e+08 | F30: =F20+F6+F27 -> 1.1051234e+08 | G30: =G20+G6+G27 -> 1.1717585e+08
A32: Datos Informativos
A33: 1. Ingresos Derivados de Financiamientos con Fuente de Pago de Recursos de Libre Disposición | B33: 797180.9 | C33: 1182674.7 | D33: 605812.45 | E33: 4921230 | F33: 5334336 | G33: 7202580.9
A34: 2. Ingresos Derivados de Financiamientos con Fuente de Pago de Transferencias Federales Etiquetadas | B34: 12088.93 | C34: 378937.85 | D34: 0 | E34: 0 | F34: 0 | G34: 0
A35: 3. Ingresos Derivados de Financiamiento (3 = 1 + 2) | B35: 0 | C35: 0 | D35: 0 | E35: 0 | F35: 0 | G35: 0
A38: 1. Los importes corresponden al momento contable de los ingresos devengados.
A39: 2. Los importes corresponden a los ingresos devengados al cierre trimestral más reciente disponible y estimados para el resto del ejercicio.

Sheet Formato 7 d)
A1: Formato 7 d) Resultados de Egresos - LDF
A2: ='Formato 1'!A2 -> INSTITUTO CULTURAL DE LEÓN
A3: Resultados de Egresos - LDF
A4: (PESOS)
A5: Concepto | B5: 2020 1 | C5: 2021 1 | D5: 2022 1 | E5: 2023 1 | F5: 2024 1 | G5: 2025 2
A6: 1. Gasto No Etiquetado (1=A+B+C+D+E+F+G+H+I) | B6: =SUM(B7:B15) -> 77638492 | C6: =SUM(C7:C15) -> 78127234 | D6: =SUM(D7:D15) -> 85273722 | E6: =SUM(E7:E15) -> 93995953 | F6: =SUM(F7:F15) -> 1.030443e+08 | G6: =SUM(G7:G15) -> 1.0935547e+08
A7: A. Servicios Personales | B7: 52944671 | C7: 50896132 | D7: 59077693 | E7: 60090356 | F7: 63314400 | G7: 67331119
A8: B. Materiales y Suministros | B8: 1357049.2 | C8: 1530842 | D8: 1230659.6 | E8: 1692783.6 | F8: 2955409.8 | G8: 2014342.5
A9: C. Servicios Generales | B9: 22199748 | C9: 25493176 | D9: 24824578 | E9: 29946364 | F9: 33989955 | G9: 39441823
A10: D. Transferencias, Asignaciones, Subsidios y Otras Ayudas | B10: 0 | C10: 0 | D10: 0 | E10: 0 | F10: 0 | G10: 0
A11: E. Bienes Muebles, Inmuebles e Intangibles | B11: 1137023.9 | C11: 207083.88 | D11: 140791.07 | E11: 2266449.3 | F11: 2784535.5 | G11: 568188.28
A12: F. Inversión Pública | B12: 0 | C12: 0 | D12: 0 | E12: 0 | F12: 0 | G12: 0
A13: G. Inversiones Financieras y Otras Provisiones | B13: 0 | C13: 0 | D13: 0 | E13: 0 | F13: 0 | G13: 0
A14: H. Participaciones y Aportaciones | B14: 0 | C14: 0 | D14: 0 | E14: 0 | F14: 0 | G14: 0
A15: I. Deuda Pública | B15: 0 | C15: 0 | D15: 0 | E15: 0 | F15: 0 | G15: 0
A17: 2. Gasto Etiquetado (2=A+B+C+D+E+F+G+H+I) | B17: =SUM(B18:B26) -> 0 | C17: =SUM(C18:C26) -> 0 | D17: =SUM(D18:D26) -> 0 | E17: =SUM(E18:E26) -> 0 | F17: =SUM(F18:F26) -> 0 | G17: =SUM(G18:G26) -> 0
A18: A. Servicios Personales | B18: 0 | C18: 0 | D18: 0 | E18: 0 | F18: 0 | G18: 0
A19: B. Materiales y Suministros | B19: 0 | C19: 0 | D19: 0 | E19: 0 | F19: 0 | G19: 0
A20: C. Servicios Generales | B20: 0 | C20: 0 | D20: 0 | E20: 0 | F20: 0 | G20: 0
A21: D. Transferencias, Asignaciones, Subsidios y Otras Ayudas | B21: 0 | C21: 0 | D21: 0 | E21: 0 | F21: 0 | G21: 0
A22: E. Bienes Muebles, Inmuebles e Intangibles | B22: 0 | C22: 0 | D22: 0 | E22: 0 | F22: 0 | G22: 0
A23: F. Inversión Pública | B23: 0 | C23: 0 | D23: 0 | E23: 0 | F23: 0 | G23: 0
A24: G. Inversiones Financieras y Otras Provisiones | B24: 0 | C24: 0 | D24: 0 | E24: 0 | F24: 0 | G24: 0
A25: H. Participaciones y Aportaciones | B25: 0 | C25: 0 | D25: 0 | E25: 0 | F25: 0 | G25: 0
A26: I. Deuda Pública | B26: 0 | C26: 0 | D26: 0 | E26: 0 | F26: 0 | G26: 0
A28: 3. Total de Egresos Proyectados (3 = 1 + 2) | B28: =B17+B6 -> 77638492 | C28: =C17+C6 -> 78127234 | D28: =D17+D6 -> 85273722 | E28: =E17+E6 -> 93995953 | F28: =F17+F6 -> 1.030443e+08 | G28: =G17+G6 -> 1.0935547e+08
A31: 1. Los importes corresponden a los egresos totales devengados.
A32: 2. Los importes corresponden a los egresos devengados al cierre trimestral más reciente disponible y estimados para el resto del ejercicio.

Sheet Formato 8
A1: Formato 8) Informe sobre Estudios Actuariales – LDF
A2: ='Formato 1'!A2 -> INSTITUTO CULTURAL DE LEÓN
A3: Informe sobre Estudios Actuariales - LDF
A4: Concepto | B4: Pensiones y jubilaciones | C4: Salud | D4: Riesgos de trabajo | E4: Invalidez y vida | F4: Otras prestaciones sociales
A5: Tipo de Sistema
A6: Prestación laboral o Fondo general para trabajadores del estado o municipio
A7: Beneficio definido, Contribución definida o Mixto
A9: Población afiliada
A10: Activos
A11: Edad máxima
A12: Edad mínima
A13: Edad promedio
A14: Pensionados y Jubilados
A15: Edad máxima
A16: Edad mínima
A17: Edad promedio
... A66: Empresa que elaboró el estudio actuarial
