Workbook

Sheet Notas a los Edos Financieros
A1: Instituto Cultural de León | C1: Ejercicio: | D1: 2026
A2: Notas de Desglose y Memoria | C2: Periodicidad: | D2: Trimestral
A3: Del 01 de enero al 30 de septiembre de 2026 | C3: Corte: | D3: 3
A4: (Cifras en Pesos)
A5: NOTAS | B5: DESCRIPCIÓN
B7: I. NOTAS DE DESGLOSE:
B9: INFORMACION CONTABLE
A10: ACT-01 | B10: INGRESOS Y OTROS BENEFICIOS
A11: ACT-02 | B11: GASTOS Y OTRAS PERDIDAS
A12: ESF-01 | B12: FONDOS CON AFECTACIÓN ESPECÍFICA E INVERSIONES FINANCIERAS
A13: ESF-02 | B13: CONTRIBUCIONES POR RECUPERAR
A14: ESF-03 | B14: CONTRIBUCIONES POR RECUPERAR CORTO PLAZO
A15: ESF-04 | B15: BIENES DISPONIBLES PARA SU TRANSFORMACIÓN ESTIMACIONES Y DETERIOROS (INVENTARIOS)
A16: ESF-05 | B16: ALMACENES
A17: ESF-06 | B17: FIDEICOMISOS, MANDATOS Y CONTRATOS ANÁLOGOS
A18: ESF-07 | B18: PARTICIPACIONES Y APORTACIONES DE CAPITAL
A19: ESF-08 | B19: BIENES MUEBLES E INMUEBLES
A20: ESF-09 | B20: INTANGIBLES Y DIFERIDOS
A21: ESF-10 | B21: ESTIMACIONES Y DETERIOROS
... A36: Conciliacion_Eg | B36: CONCILIACIÓN ENTRE LOS EGRESOS PRESUPUESTARIOS Y LOS GASTOS CONTABLES
B38: II. DE MEMORIA (DE ORDEN):
A39: Memoria | B39: CONTABLES
B40: PRESUPUESTARIAS
B41: INGRESOS
B42: EGRESOS
A45: Bajo protesta de decir verdad declaramos que los Estados Financieros y sus notas, son razonablemente correctos y son responsabilidad del emisor.
B50: DIRECTORA GENERAL LIC. LISETTE AHEDO ESPINOSA | C50: DIRECTORA DE ADMINISTRACIÓN Y FINANZAS C.P. VERÓNICA GONZÁLEZ MORENO

Sheet ACT
A1: ='Notas a los Edos Financieros'!A1 -> Instituto Cultural de León | D1: Ejercicio: | E1: ='Notas a los Edos Financieros'!D1 -> 2026
A2: Notas de Desglose Estado de Actividades | D2: Periodicidad: | E2: ='Notas a los Edos Financieros'!D2 -> Trimestral
A3: ='Notas a los Edos Financieros'!A3 -> Del 01 de enero al 30 de septiembre de 2026 | D3: Corte: | E3: ='Notas a los Edos Financieros'!D3 -> 3
A4: (Cifras en Pesos)
A5: Notas
A7: ACT-01 INGRESOS y OTROS BENEFICIOS
A8: Cuenta | B8: Nombre de la Cuenta | C8: Monto | D8: % | E8: Explicación
A9: 4000 | B9: INGRESOS Y OTROS BENEFICIOS | C9: =+C10+C57+C69 -> 1.0900564e+08
A10: 4100 | B10: INGRESOS DE GESTION | C10: =+C11+C21+C27+C30+C36+C39+C48 -> 13097472
A11: 4110 | B11: Impuestos | C11: =+C12 -> 0 | D11: =IFERROR(C11/$C$12,"")
A12: 4111 | B12: Impuestos Sobre los Ingresos | C12: 0 | D12: =IFERROR(C12/$C$12,"")
A13: 4112 | B13: Impuestos Sobre el Patrimonio | C13: 0 | D13: =IFERROR(C13/$C$12,"")
A14: 4113 | B14: Impuestos Sobre la Producción, el Consumo y las Transacciones | C14: 0 | D14: =IFERROR(C14/$C$12,"")
A15: 4114 | B15: Impuestos al Comercio Exterior | C15: 0 | D15: =IFERROR(C15/$C$12,"")
A16: 4115 | B16: Impuestos Sobre Nóminas y Asimilables | C16: 0 | D16: =IFERROR(C16/$C$12,"")
A17: 4116 | B17: Impuestos Ecológicos | C17: 0 | D17: =IFERROR(C17/$C$12,"")
A18: 4117 | B18: Accesorios de Impuestos | C18: 0 | D18: =IFERROR(C18/$C$12,"")
A19: 4118 | B19: Impuestos no Comprendidos en la Ley de Ingresos Vigente, Causados en Ejercicios Fiscales Anteriores Pendientes de Liquidación o Pago | C19: 0 | D19: =IFERROR(C19/$C$12,"")
A20: 4119 | B20: Otros Impuestos | C20: 0 | D20: =IFERROR(C20/$C$12,"")
A21: 4120 | B21: Cuotas y Aportaciones de Seguridad Social | C21: 0 | D21: =IFERROR(C21/$C$21,"")
A22: 4121 | B22: Aportaciones para Fondos de Vivienda | C22: 0 | D22: =IFERROR(C22/$C$21,"")
A23: 4122 | B23: Cuotas para la Seguridad Social | C23: 0 | D23: =IFERROR(C23/$C$21,"")
A24: 4123 | B24: Cuotas de Ahorro para el Retiro | C24: 0 | D24: =IFERROR(C24/$C$21,"")
A25: 4124 | B25: Accesorios de Cuotas y Aportaciones de Seguridad Social | C25: 0 | D25: =IFERROR(C25/$C$21,"")
A26: 4129 | B26: Otras Cuotas y Aportaciones para la Seguridad Social | C26: 0 | D26: =IFERROR(C26/$C$21,"")
A27: 4130 | B27: Contribuciones de Mejoras | C27: 0 | D27: =IFERROR(C27/$C$27,"")
A28: 4131 | B28: Contribuciones de Mejoras por Obras Públicas | C28: 0 | D28: =IFERROR(C28/$C$27,"")
A29: 4132 | B29: Contribuciones de Mejoras no Comprendidas en la Ley de Ingresos Vigente, Causadas en Ejercicios Fiscales Anteriores Pendientes de Liquidación o Pago | C29: 0 | D29: =IFERROR(C29/$C$27,"")
A30: 4140 | B30: Derechos | C30: 0 | D30: =IFERROR(C30/$C$30,"")
A31: 4141 | B31: Derechos por el Uso, Goce, Aprovechamiento o Explotación de Bienes de Dominio Público | C31: 0 | D31: =IFERROR(C31/$C$30,"")
A32: 4143 | B32: Derechos por Prestación de Servicios | C32: 0 | D32: =IFERROR(C32/$C$30,"")
A33: 4144 | B33: Accesorios de Derechos | C33: 0 | D33: =IFERROR(C33/$C$30,"")
A34: 4145 | B34: Derechos no Comprendidos en la Ley de Ingresos Vigente, Causados en Ejercicios Fiscales Anteriores Pendientes de Liquidación o Pago | C34: 0 | D34: =IFERROR(C34/$C$30,"")
A35: 4149 | B35: Otros Derechos | C35: 0 | D35: =IFERROR(C35/$C$30,"")
A36: 4150 | B36: Productos | C36: 0 | D36: =IFERROR(C36/$C$36,"")
A37: 4151 | B37: Productos | C37: 0 | D37: =IFERROR(C37/$C$36,"")
A38: 4154 | B38: Productos no Comprendidos en la Ley de Ingresos Vigente, Causados en Ejercicios Fiscales Anteriores Pendientes de Liquidación o Pago | C38: 0 | D38: =IFERROR(C38/$C$36,"")
A39: 4160 | B39: Aprovechamientos | C39: 0 | D39: =IFERROR(C39/$C$39,"")
A40: 4161 | B40: Incentivos Derivados de la Colaboración Fiscal | C40: 0 | D40: =IFERROR(C40/$C$39,"")
A41: 4162 | B41: Multas | C41: 0 | D41: =IFERROR(C41/$C$39,"")
...

Sheet ESF
A1: ='Notas a los Edos Financieros'!A1 -> Instituto Cultural de León | G1: Ejercicio: | H1: ='Notas a los Edos Financieros'!D1 -> 2026
A2: Notas de Desglose Estado de Situación Financiera | G2: Periodicidad: | H2: ='Notas a los Edos Financieros'!D2 -> Trimestral
A3: ='Notas a los Edos Financieros'!A3 -> Del 01 de enero al 30 de septiembre de 2026 | G3: Corte: | H3: ='Notas a los Edos Financieros'!D3 -> 3
A4: (Cifras en Pesos)
A5: Notas
A7: ESF-01 FONDOS CON AFECTACIÓN ESPECÍFICA E INVERSIONES FINANCIERAS
A8: Cuenta | B8: Nombre de la Cuenta | C8: Monto | D8: Tipo
A9: 1114 | B9: Inversiones Temporales (Hasta 3 meses) | C9: 0
A10: 1115 | B10: Fondos con Afectación Específica | C10: 0
A11: 1121 | B11: Inversiones Financieras de Corto Plazo | C11: 0
A13: ESF-02 CONTRIBUCIONES POR RECUPERAR
A14: Cuenta | B14: Nombre de la Cuenta | C14: Monto | D14: =H1-1 -> 2025 | E14: =D14-1 -> 2024 | F14: =E14-1 -> 2023 | G14: =F14-1 -> 2022 | H14: Factibilidad de Cobro
A15: 1122 | B15: Cuentas por Cobrar a Corto Plazo | C15: 7342265.4 | D15: 146723.79 | E15: 58860.03 | F15: 72959.07 | G15: 109480.07 | H15: Por cobrar
A16: 1124 | B16: Ingresos por Recuperar a Corto Plazo | C16: 1413268.4 | D16: 1413268.4 | E16: 2042737.7 | F16: 3233718.1 | G16: 3858107.8
A18: ESF-03 CONTRIBUCIONES POR RECUPERAR CORTO PLAZO
A19: Cuenta | B19: Nombre de la Cuenta | C19: Monto | D19: A 90 Días | E19: A 180 Días | F19: A 365 Días | G19: + 365 Días | H19: Característica
A20: 1123 | B20: Deudores Diversos por Cobrar a Corto Plazo | C20: 691998.71 | D20: 81733.11 | E20: 0 | F20: 0 | G20: 610265.6 | H20: Por recuperar
A21: 1125 | B21: Deudores por Anticipos de la Tesorería a Corto Plazo | C21: 0 | D21: 0 | E21: 0 | F21: 0 | G21: 0
A22: 1126 | B22: Préstamos Otorgados a Corto Plazo | C22: 0 | D22: 0 | E22: 0 | F22: 0 | G22: 0
A23: 1129 | B23: Otros Derechos a Recibir Efectivo o Equivalentes a Corto Plazo | C23: 0 | D23: 0 | E23: 0 | F23: 0 | G23: 0
A24: 1131 | B24: Anticipo a Proveedores por Adquisición de Bienes y Prestación de Servicios a Corto Plazo | C24: 806663.33 | D24: 245981.47 | E24: 0 | F24: 0 | G24: 560681.86 | H24: Por recuperar
A25: 1132 | B25: Anticipo a Proveedores por Adquisición de Bienes Inmuebles y Muebles a Corto Plazo | C25: 0 | D25: 0 | E25: 0 | F25: 0 | G25: 0
A26: 1133 | B26: Anticipo a Proveedores por Adquisición de Bienes Intangibles a Corto Plazo | C26: 0 | D26: 0 | E26: 0 | F26: 0 | G26: 0
A27: 1134 | B27: Anticipo a Contratistas por Obras Públicas a Corto Plazo | C27: 0 | D27: 0 | E27: 0 | F27: 0 | G27: 0
A28: 1139 | B28: Otros Derechos a Recibir Bienes o Servicios a Corto Plazo | C28: 0 | D28: 0 | E28: 0 | F28: 0 | G28: 0
A30: ESF-04 BIENES DISPONIBLES PARA SU TRANSFORMACIÓN ESTIMACIONES Y DETERIOROS (INVENTARIOS)
A31: Cuenta | B31: Nombre de la Cuenta | C31: Monto | D31: Sistema de Costeo | E31: Método de Valuación | F31: Impacto de Información Financiera
A32: 1140 | B32: Inventarios | C32: 0
A33: 1141 | B33: Inventario de Mercancías para Venta | C33: 0
A34: 1142 | B34: Inventario de Mercancías Terminadas | C34: 0
A35: 1143 | B35: Inventario de Mercancías en Proceso de Elaboración | C35: 0
A36: 1144 | B36: Inventario de Materias Primas, Materiales y Suministros para Producción | C36: 0
A37: 1145 | B37: Bienes en Tránsito | C37: 0
A39: ESF-05 ALMACENES
A40: Cuenta | B40: Nombre de la Cuenta | C40: Monto | D40: Método de Valuación | E40: Conveniencia de Aplicación | F40: Impacto de Información Financiera
A41: 1150 | B41: Almacenes | C41: 0
A42: 1151 | B42: Almacén de Materiales y Suministros de Consumo | C42: 0
A44: ESF-06 FIDEICOMISOS, MANDATOS Y CONTRATOS ANÁLOGOS
A45: Cuenta | B45: Nombre de la Cuenta | C45: Monto | D45: Tipo | E45: Característica
A46: 1213 | B46: Fideicomisos, Mandatos y Contratos Análogos | C46: 0
...

Sheet VHP
A1: =ESF!A1 -> Instituto Cultural de León | D1: Ejercicio: | E1: ='Notas a los Edos Financieros'!D1 -> 2026
A2: Notas de Desglose Estado de Variación en la Hacienda Pública | D2: Periodicidad: | E2: ='Notas a los Edos Financieros'!D2 -> Trimestral
A3: =ESF!A3 -> Del 01 de enero al 30 de septiembre de 2026 | D3: Corte: | E3: ='Notas a los Edos Financieros'!D3 -> 3
A4: (Cifras en Pesos)
A5: Notas
A7: VHP-01 PATRIMONIO CONTRIBUIDO
A8: Cuenta | B8: Nombre de la Cuenta | C8: Monto | D8: Tipo | E8: Naturaleza
A9: 3110 | B9: Aportaciones | C9: 1479574.6
A10: 3120 | B10: Donaciones de Capital | C10: 0
A11: 3130 | B11: Actualización de la Hacienda Pública/Patrimonio | C11: 0
A13: VHP-02 PATRIMONIO GENERADO
A14: Cuenta | B14: Nombre de la Cuenta | C14: Monto | D14: Procedencia
A15: 3210 | B15: Resultado del Ejercicio (Ahorro/Desahorro) | C15: 23708589
A16: 3220 | B16: Resultados de Ejercicios Anteriores | C16: 16398177
A17: 3230 | B17: Revalúos | C17: 0
A18: 3231 | B18: Revalúo de Bienes Inmuebles | C18: 0
A19: 3232 | B19: Revalúo de Bienes Muebles | C19: 0
A20: 3233 | B20: Revalúo de Bienes Intangibles | C20: 0
A21: 3239 | B21: Otros Revalúos | C21: 0
A22: 3240 | B22: Reservas | C22: 0
A23: 3241 | B23: Reservas de Patrimonio | C23: 0
A24: 3242 | B24: Reservas Territoriales | C24: 0
A25: 3243 | B25: Reservas por Contingencias | C25: 0
A26: 3250 | B26: Rectificaciones de Resultados de Ejercicios Anteriores | C26: 0
... A29: 3253 | B29: Cambios en Estimaciones Contables | C29: 0
A31: Bajo protesta de decir verdad declaramos que los Estados Financieros y sus notas, son razonablemente correctos y son responsabilidad del emisor.
B36: DIRECTORA GENERAL LIC. LISETTE AHEDO ESPINOSA | C36: DIRECTORA DE ADMINISTRACIÓN Y FINANZAS C.P. VERÓNICA GONZÁLEZ MORENO

Sheet EFE
A1: =ESF!A1 -> Instituto Cultural de León | D1: Ejercicio: | E1: ='Notas a los Edos Financieros'!D1 -> 2026
A2: Notas de Desglose Estado de Flujos de Efectivo | D2: Periodicidad: | E2: ='Notas a los Edos Financieros'!D2 -> Trimestral
A3: =ESF!A3 -> Del 01 de enero al 30 de septiembre de 2026 | D3: Corte: | E3: ='Notas a los Edos Financieros'!D3 -> 3
A4: (Cifras en Pesos)
A5: Notas
A7: EFE-01 EFECTIVO Y EQUIVALENTES
A8: Cuenta | B8: Nombre de la Cuenta | C8: 2026 | D8: =C8-1 -> 2025
A9: 1111 | B9: Efectivo | C9: 47500 | D9: 47500
A10: 1112 | B10: Bancos/Tesorería | C10: 34627288 | D10: 17770160
A11: 1113 | B11: Bancos/Dependencias y Otros | C11: 0 | D11: 0
A12: 1114 | B12: Inversiones Temporales (Hasta 3 meses) | C12: 0 | D12: 0
A13: 1115 | B13: Fondos con Afectación Específica | C13: 0 | D13: 0
A14: 1116 | B14: Depósitos de Fondos de Terceros en Garantía y/o Administración | C14: 0 | D14: 0
A15: 1119 | B15: Otros Efectivos y Equivalentes | C15: 0 | D15: 0
A16: 1110 | B16: Total de Efectivo y Equivalentes | C16: =+C9+C10+C11+C12+C13+C14+C15 -> 34674788 | D16: =+D9+D10+D11+D12+D13+D14+D15 -> 17817660
A19: EFE-02 ADQ. DE ACT. DE INVERSIÓN EFECTIVAMENTE PAGADAS
A20: Cuenta | B20: Nombre de la Cuenta | C20: 2026 | D20: =C20-1 -> 2025
A21: 1230 | B21: Bienes Inmuebles, Infraestructura y Construcciones en Proceso | C21: 0 | D21: 0
A22: 1231 | B22: Terrenos | C22: 0 | D22: 0
A23: 1232 | B23: Viviendas | C23: 0 | D23: 0
A24: 1233 | B24: Edificios no Habitacionales | C24: 0 | D24: 0
A25: 1234 | B25: Infraestructura | C25: 0 | D25: 0
A26: 1235 | B26: Construcciones en Proceso en Bienes de Dominio Público | C26: 0 | D26: 0
A27: 1236 | B27: Construcciones en Proceso en Bienes Propios | C27: 0 | D27: 0
A28: 1239 | B28: Otros Bienes Inmuebles | C28: 0 | D28: 0
A29: 1240 | B29: Bienes Muebles | C29: =+C30+C31+C32+C33+C34+C35+C36+C37 -> 301455.04 | D29: =+D30+D31+D32+D33+D34+D35+D36+D37 -> 975176.28
A30: 1241 | B30: Mobiliario y Equipo de Administración | C30: 25628.48 | D30: 308783.78
A31: 1242 | B31: Mobiliario y Equipo Educacional y Recreativo | C31: 12738.56 | D31: 659699.42
A32: 1243 | B32: Equipo e Instrumental Médico y de Laboratorio | C32: 0 | D32: 0
A33: 1244 | B33: Vehículos y Equipo de Transporte | C33: 0 | D33: 6693.08
A34: 1245 | B34: Equipo de Defensa y Seguridad | C34: 0 | D34: 0
A35: 1246 | B35: Maquinaria, Otros Equipos y Herramientas | C35: 263088 | D35: 0
A36: 1247 | B36: Colecciones, Obras de Arte y Objetos Valiosos | C36: 0 | D36: 0
A37: 1248 | B37: Activos Biológicos | C37: 0 | D37: 0
A38: 1250 | B38: Activos Intangibles | C38: =+C39+C40+C41+C42+C43 -> 0 | D38: 0
A39: 1251 | B39: Software | C39: 0 | D39: 0
A40: 1252 | B40: Patentes, Marcas y Derechos | C40: 0 | D40: 0
A41: 1253 | B41: Concesiones y Franquicias | C41: 0 | D41: 0
A42: 1254 | B42: Licencias | C42: 0 | D42: 0
A43: 1259 | B43: Otros Activos Intangibles | C43: 0 | D43: 0
...

Sheet Conciliacion_Ig
A1: =ESF!A1 -> Instituto Cultural de León
A2: Conciliación entre los Ingresos Presupuestarios y Contables
A3: =ESF!A3 -> Del 01 de enero al 30 de septiembre de 2026
A4: (Cifras en pesos)
A5: Concepto | C5: 2026
A6: 1. Total de Ingresos Presupuestarios | C6: 1.0900564e+08
A8: 2. Más Ingresos Contables No Presupuestarios | C8: =SUM(C9:C14) -> 0
A9: 2.1 | B9: Ingresos Financieros | C9: 0
A10: 2.2 | B10: Incremento por Variación de inventarios | C10: 0
A11: 2.3 | B11: Disminución del Exceso de Estimaciones por Pérdida o Deterioro u Obsolescencia | C11: 0
A12: 2.4 | B12: Disminución del Exceso de Provisiones | C12: 0
A13: 2.5 | B13: Otros Ingresos y Beneficios Varios | C13: 0
A14: 2.6 | B14: Otros Ingresos Contables No Presupuestarios | C14: 0
A16: 3. Menos Ingresos Presupuestarios No Contables | C16: =SUM(C17:C19) -> 0
A17: 3.1 | B17: Aprovechamientos Patrimoniales | C17: 0
A18: 3.2 | B18: Ingresos Derivados de Financiamientos | C18: 0
A19: 3.3 | B19: Otros Ingresos Presupuestarios No Contables | C19: 0
A21: 4. Total de Ingresos Contables | C21: =C6+C8-C16 -> 1.0900564e+08
A23: Bajo protesta de decir verdad declaramos que los Estados Financieros y sus notas, son razonablemente correctos y son responsabilidad del emisor.
B28: DIRECTORA GENERAL LIC. LISETTE AHEDO ESPINOSA | C28: DIRECTORA DE ADMINISTRACIÓN Y FINANZAS C.P. VERÓNICA GONZÁLEZ MORENO

Sheet Conciliacion_Eg
A1: =ESF!A1 -> Instituto Cultural de León
A2: Conciliación entre los Egresos Presupuestarios y los Gastos Contables
A3: =ESF!A3 -> Del 01 de enero al 30 de septiembre de 2026
A4: (Cifras en pesos)
A5: Concepto | C5: 2026
A6: 1. Total de Egresos Presupuestarios | C6: 84459384
A8: 2. Menos Egresos Presupuestarios No Contables | C8: =SUM(C9:C29) -> 301455.04
A9: 2.1 | B9: Materias Primas y Materiales de Producción y Comercialización | C9: 0
A10: 2.2 | B10: Materiales y Suministros | C10: 0
A11: 2.3 | B11: Mobiliario y Equipo de Administración | C11: =25633.48-5 -> 25628.48
A12: 2.4 | B12: Mobiliario y Equipo Educacional y Recreativo | C12: 12738.56
A13: 2.5 | B13: Equipo e Instrumental Médico y de Laboratorio | C13: 0
A14: 2.6 | B14: Vehículos y Equipo de Transporte | C14: 0
A15: 2.7 | B15: Equipo de Defensa y Seguridad | C15: 0
A16: 2.8 | B16: Maquinaria, Otros Equipos y Herramientas | C16: 0
A17: 2.9 | B17: Activos Biológicos | C17: 0
A18: 2.10 | B18: Bienes Inmuebles | C18: 0
A19: 2.11 | B19: Activos Intangibles | C19: 0
A20: 2.12 | B20: Obra Pública en Bienes de Dominio Público | C20: 0
A21: 2.13 | B21: Obra Pública en Bienes Propios | C21: 0
A22: 2.14 | B22: Acciones y Participaciones de Capital | C22: 0
A23: 2.15 | B23: Compra de Títulos y Valores | C23: 0
A24: 2.16 | B24: Concesión de Préstamos | C24: 0
A25: 2.17 | B25: Inversiones en Fideicomisos, Mandatos y Otros Análogos | C25: 0
A26: 2.18 | B26: Provisiones para Contingencias y Otras Erogaciones Especiales | C26: 0
A27: 2.19 | B27: Amortización de la Deuda Pública | C27: 0
A28: 2.20 | B28: Adeudos de Ejercicios Fiscales Anteriores (ADEFAS) | C28: 0
A29: 2.21 | B29: Otros Egresos Presupuestarios No Contables | C29: 263088
A31: 3. Más Gastos Contables No Presupuestarios | C31: =SUM(C32:C38) -> 1139123.6
A32: 3.1 | B32: Estimaciones, Depreciaciones, Deterioros, Obsolescencia y Amortizaciones | C32: 1139123.6
A33: 3.2 | B33: Provisiones | C33: 0
A34: 3.3 | B34: Disminución de Inventarios | C34: 0
A35: 3.4 | B35: Otros Gastos | C35: 0
A36: 3.5 | B36: Inversión Pública no Capitalizable | C36: 0
A37: 3.6 | B37: Materiales y Suministros (consumos) | C37: 0
A38: 3.7 | B38: Otros Gastos Contables No Presupuestarios | C38: 0
A40: 4. Total de Gastos Contables | C40: =C6-C8+C31 -> 85297053
A42: Bajo protesta de decir verdad declaramos que los Estados Financieros y sus notas, son razonablemente correctos y son responsabilidad del emisor.
B47: DIRECTORA GENERAL LIC. LISETTE AHEDO ESPINOSA | C47: DIRECTORA DE ADMINISTRACIÓN Y FINANZAS C.P. VERÓNICA GONZÁLEZ MORENO

Sheet Memoria
A1: ='Notas a los Edos Financieros'!A1 -> Instituto Cultural de León | G1: Ejercicio: | H1: ='Notas a los Edos Financieros'!D1 -> 2026
A2: Notas de Memoria | G2: Periodicidad: | H2: ='Notas a los Edos Financieros'!D2 -> Trimestral
A3: ='Notas a los Edos Financieros'!A3 -> Del 01 de enero al 30 de septiembre de 2026 | G3: Corte: | H3: ='Notas a los Edos Financieros'!D3 -> 3
A4: (Cifras en Pesos)
A5: Notas
A8: Cuenta | B8: Concepto | C8: Saldo Inicial | D8: Cargos del Período | E8: Abonos del Período | F8: Saldo Final | G8: Valores en Custodia | H8: Tasa | I8: Vencimiento | J8: Tipo de Contrato
A9: 7000 | B9: CUENTAS DE ORDEN CONTABLES
A10: 7110 | B10: Valores en Custodia | C10: 0 | D10: 0 | E10: 0 | F10: 0
A11: 7120 | B11: Custodia de Valores | C11: 0 | D11: 0 | E11: 0 | F11: 0
A12: 7130 | B12: Instrumentos de Crédito Prestados a Formadores de Mercado | C12: 0 | D12: 0 | E12: 0 | F12: 0
A13: 7140 | B13: Préstamo de Instrumentos de Crédito a Formadores de Mercado y su Garantía | C13: 0 | D13: 0 | E13: 0 | F13: 0
A14: 7150 | B14: Instrumentos de Crédito Recibidos en Garantía de los Formadores de Mercado | C14: 0 | D14: 0 | E14: 0 | F14: 0
A15: 7160 | B15: Garantía de Créditos Recibidos de los Formadores de Mercado | C15: 0 | D15: 0 | E15: 0 | F15: 0
A16: 7210 | B16: Autorización para la Emisión de Bonos, Títulos y Valores de la Deuda Pública Interna | C16: 0 | D16: 0 | E16: 0 | F16: 0
A17: 7220 | B17: Autorización para la Emisión de Bonos, Títulos y Valores de la Deuda Pública Externa | C17: 0 | D17: 0 | E17: 0 | F17: 0
A18: 7230 | B18: Emisiones Autorizadas de la Deuda Pública Interna y Externa | C18: 0 | D18: 0 | E18: 0 | F18: 0
A19: 7240 | B19: Suscripción de Contratos de Préstamos y Otras Obligaciones de la Deuda Pública Interna | C19: 0 | D19: 0 | E19: 0 | F19: 0
A20: 7250 | B20: Suscripción de Contratos de Préstamos y Otras Obligaciones de la Deuda Pública Externa | C20: 0 | D20: 0 | E20: 0 | F20: 0
A21: 7260 | B21: Contratos de Préstamos y Otras Obligaciones de la Deuda Pública Interna y Externa | C21: 0 | D21: 0 | E21: 0 | F21: 0
... A35: 7640 | B35: Contrato de Comodato por Bienes | C35: 0 | D35: 0 | E35: 0 | F35: 0
A37: 8000 | B37: CUENTAS DE ORDEN PRESUPUESTARIO
B39: Cuentas de Orden Presupuestarias de Ingresos
B40: Concepto | C40: 2026
A41: 8110 | B41: Ley de Ingresos Estimada | C41: 100677572
A42: 8120 | B42: Ley de Ingresos por Ejecutar | C42: 21186046
A43: 8130 | B43: Modificaciones a la Ley de Ingresos Estimada | C43: 29514116
A44: 8140 | B44: Ley de Ingresos Devengada | C44: 1.0900564e+08
A45: 8150 | B45: Ley de Ingresos Recaudada | C45: 1.0173836e+08
B48: Cuentas de Orden Presupuestarias de Egresos
B49: Concepto | C49: 2026
A50: 8210 | B50: Presupuesto de Egresos Aprobado | C50: 100677572
A51: 8220 | B51: Presupuesto de Egresos por Ejercer | C51: 40120997
A52: 8230 | B52: Modificaciones al Presupuesto de Egresos Aprobado | C52: 29514116
A53: 8240 | B53: Presupuesto de Egresos Comprometido | C53: 5611307
A54: 8250 | B54: Presupuesto de Egresos Devengado | C54: 84459384
A55: 8260 | B55: Presupuesto de Egresos Ejercido | C55: 0
A56: 8270 | B56: Presupuesto de Egresos Pagado | C56: 81656656
A59: Bajo protesta de decir verdad declaramos que los Estados Financieros y sus notas, son razonablemente correctos y son responsabilidad del emisor.
B64: DIRECTORA GENERAL LIC. LISETTE AHEDO ESPINOSA | C64: DIRECTORA DE ADMINISTRACIÓN Y FINANZAS C.P. VERÓNICA GONZÁLEZ MORENO
